BEGIN:VCALENDAR
VERSION:2.0
PRODID:-//Leadership Embodiment - ECPv6.15.20//NONSGML v1.0//EN
CALSCALE:GREGORIAN
METHOD:PUBLISH
X-ORIGINAL-URL:https://leadershipembodiment.com
X-WR-CALDESC:Events for Leadership Embodiment
REFRESH-INTERVAL;VALUE=DURATION:PT1H
X-Robots-Tag:noindex
X-PUBLISHED-TTL:PT1H
BEGIN:VTIMEZONE
TZID:America/Los_Angeles
BEGIN:DAYLIGHT
TZOFFSETFROM:-0800
TZOFFSETTO:-0700
TZNAME:PDT
DTSTART:20180311T100000
END:DAYLIGHT
BEGIN:STANDARD
TZOFFSETFROM:-0700
TZOFFSETTO:-0800
TZNAME:PST
DTSTART:20181104T090000
END:STANDARD
BEGIN:DAYLIGHT
TZOFFSETFROM:-0800
TZOFFSETTO:-0700
TZNAME:PDT
DTSTART:20190310T100000
END:DAYLIGHT
BEGIN:STANDARD
TZOFFSETFROM:-0700
TZOFFSETTO:-0800
TZNAME:PST
DTSTART:20191103T090000
END:STANDARD
BEGIN:DAYLIGHT
TZOFFSETFROM:-0800
TZOFFSETTO:-0700
TZNAME:PDT
DTSTART:20200308T100000
END:DAYLIGHT
BEGIN:STANDARD
TZOFFSETFROM:-0700
TZOFFSETTO:-0800
TZNAME:PST
DTSTART:20201101T090000
END:STANDARD
BEGIN:DAYLIGHT
TZOFFSETFROM:-0800
TZOFFSETTO:-0700
TZNAME:PDT
DTSTART:20210314T100000
END:DAYLIGHT
BEGIN:STANDARD
TZOFFSETFROM:-0700
TZOFFSETTO:-0800
TZNAME:PST
DTSTART:20211107T090000
END:STANDARD
BEGIN:DAYLIGHT
TZOFFSETFROM:-0800
TZOFFSETTO:-0700
TZNAME:PDT
DTSTART:20220313T100000
END:DAYLIGHT
BEGIN:STANDARD
TZOFFSETFROM:-0700
TZOFFSETTO:-0800
TZNAME:PST
DTSTART:20221106T090000
END:STANDARD
BEGIN:DAYLIGHT
TZOFFSETFROM:-0800
TZOFFSETTO:-0700
TZNAME:PDT
DTSTART:20230312T100000
END:DAYLIGHT
BEGIN:STANDARD
TZOFFSETFROM:-0700
TZOFFSETTO:-0800
TZNAME:PST
DTSTART:20231105T090000
END:STANDARD
BEGIN:DAYLIGHT
TZOFFSETFROM:-0800
TZOFFSETTO:-0700
TZNAME:PDT
DTSTART:20240310T100000
END:DAYLIGHT
BEGIN:STANDARD
TZOFFSETFROM:-0700
TZOFFSETTO:-0800
TZNAME:PST
DTSTART:20241103T090000
END:STANDARD
BEGIN:DAYLIGHT
TZOFFSETFROM:-0800
TZOFFSETTO:-0700
TZNAME:PDT
DTSTART:20250309T100000
END:DAYLIGHT
BEGIN:STANDARD
TZOFFSETFROM:-0700
TZOFFSETTO:-0800
TZNAME:PST
DTSTART:20251102T090000
END:STANDARD
BEGIN:DAYLIGHT
TZOFFSETFROM:-0800
TZOFFSETTO:-0700
TZNAME:PDT
DTSTART:20260308T100000
END:DAYLIGHT
BEGIN:STANDARD
TZOFFSETFROM:-0700
TZOFFSETTO:-0800
TZNAME:PST
DTSTART:20261101T090000
END:STANDARD
END:VTIMEZONE
BEGIN:VEVENT
DTSTART;VALUE=DATE:20250510
DTEND;VALUE=DATE:20250512
DTSTAMP:20260424T170247
CREATED:20250114T171649Z
LAST-MODIFIED:20250114T171952Z
UID:10001146-1746835200-1747007999@leadershipembodiment.com
SUMMARY:Leadership Embodiment Level 2 with Paul King
DESCRIPTION:Join Paul in Dublin for a 2-Day Leadership Embodiment Level 2 workshop. You must have completed a Level 1 before enrolling in a Level 2. For a description of a Level 2\, please see our Public Courses page.  \nDates: 10-11 May 2025 \n \nEurope
URL:https://leadershipembodiment.com/event/leadership-embodiment-level-2-with-paul-king-5/
LOCATION:Dublin Venue\, Dublin\, Ireland
CATEGORIES:Europe
ORGANIZER;CN="Paul King":MAILTO:info@thebeyondpartnership.co.uk
END:VEVENT
BEGIN:VEVENT
DTSTART;VALUE=DATE:20200430
DTEND;VALUE=DATE:20200502
DTSTAMP:20260424T170247
CREATED:20191112T184129Z
LAST-MODIFIED:20191112T184129Z
UID:10000358-1588204800-1588377599@leadershipembodiment.com
SUMMARY:Level 1 with Paul King
DESCRIPTION:Join Paul for a 2-day Level 1 in Dublin\, Ireland. For a description of a Level 1\, please see our courses page.  \nDates: 30 April – 1 May
URL:https://leadershipembodiment.com/event/level-1-with-paul-king-43/
LOCATION:Dublin Venue\, Dublin\, Ireland
CATEGORIES:Europe
ATTACH;FMTTYPE=:
ORGANIZER;CN="Paul King":MAILTO:info@thebeyondpartnership.co.uk
END:VEVENT
BEGIN:VEVENT
DTSTART;VALUE=DATE:20190921
DTEND;VALUE=DATE:20190923
DTSTAMP:20260424T170247
CREATED:20190607T195716Z
LAST-MODIFIED:20190607T195716Z
UID:10000313-1569024000-1569196799@leadershipembodiment.com
SUMMARY:Level 1 with Paul King
DESCRIPTION:Join Paul King in Dublin\, Ireland for a 2-Day Level 1.  For a description of a Level 1\, please see our courses page.
URL:https://leadershipembodiment.com/event/level-1-with-paul-king-37/
LOCATION:Dublin Venue\, Dublin\, Ireland
CATEGORIES:Europe
ATTACH;FMTTYPE=:
ORGANIZER;CN="Paul King":MAILTO:info@thebeyondpartnership.co.uk
END:VEVENT
END:VCALENDAR