BEGIN:VCALENDAR
VERSION:2.0
PRODID:-//Leadership Embodiment - ECPv6.15.20//NONSGML v1.0//EN
CALSCALE:GREGORIAN
METHOD:PUBLISH
X-ORIGINAL-URL:https://leadershipembodiment.com
X-WR-CALDESC:Events for Leadership Embodiment
REFRESH-INTERVAL;VALUE=DURATION:PT1H
X-Robots-Tag:noindex
X-PUBLISHED-TTL:PT1H
BEGIN:VTIMEZONE
TZID:America/Los_Angeles
BEGIN:DAYLIGHT
TZOFFSETFROM:-0800
TZOFFSETTO:-0700
TZNAME:PDT
DTSTART:20170312T100000
END:DAYLIGHT
BEGIN:STANDARD
TZOFFSETFROM:-0700
TZOFFSETTO:-0800
TZNAME:PST
DTSTART:20171105T090000
END:STANDARD
BEGIN:DAYLIGHT
TZOFFSETFROM:-0800
TZOFFSETTO:-0700
TZNAME:PDT
DTSTART:20180311T100000
END:DAYLIGHT
BEGIN:STANDARD
TZOFFSETFROM:-0700
TZOFFSETTO:-0800
TZNAME:PST
DTSTART:20181104T090000
END:STANDARD
BEGIN:DAYLIGHT
TZOFFSETFROM:-0800
TZOFFSETTO:-0700
TZNAME:PDT
DTSTART:20190310T100000
END:DAYLIGHT
BEGIN:STANDARD
TZOFFSETFROM:-0700
TZOFFSETTO:-0800
TZNAME:PST
DTSTART:20191103T090000
END:STANDARD
END:VTIMEZONE
BEGIN:VEVENT
DTSTART;VALUE=DATE:20180510
DTEND;VALUE=DATE:20180513
DTSTAMP:20260424T174558
CREATED:20171117T195418Z
LAST-MODIFIED:20171117T195418Z
UID:10000675-1525910400-1526169599@leadershipembodiment.com
SUMMARY:Combined Level 1 & Level 2 with Tiphani Palmer
DESCRIPTION:Join Tiphani Palmer for a 3-day combined Level 1 & Level 2 at the GWU Alexandria Graduate Center in Alexandria\, Virginia.  \nThis combined workshop includes Leadership Embodiment Level 1 Fundamentals and Level 2 Intermediate courses. Useful to Experienced Coaches looking to take their practices to the next level\, Skilled Facilitators\, OD practitioners\, Educators\, and Professionals who want to support learning and development in organizations and their community.  \nThis workshop can be taken as a stand-alone course and also serves as one of the pre-requisites for an Intensive Retreat as well as the Leadership Embodiment Coach Training (LECT) if you choose to take that path.    \nFor more information and to register\, please click here. \nDates: 10-12 May\, 2018
URL:https://leadershipembodiment.com/event/combined-level-1-level-2-with-tiphani-palmer/
LOCATION:GWU Alexandria Graduate Center\, 413 John Carlyle Street\, Alexandria\, VA\, 22314\, United States
CATEGORIES:North America
ATTACH;FMTTYPE=:
ORGANIZER;CN="Ina Gjikondi":MAILTO:gjikondi (at) gwu.edu
GEO:38.802967;-77.0620987
X-APPLE-STRUCTURED-LOCATION;VALUE=URI;X-ADDRESS=GWU Alexandria Graduate Center 413 John Carlyle Street Alexandria VA 22314 United States;X-APPLE-RADIUS=500;X-TITLE=413 John Carlyle Street:geo:-77.0620987,38.802967
END:VEVENT
END:VCALENDAR