BEGIN:VCALENDAR
VERSION:2.0
PRODID:-//Leadership Embodiment - ECPv6.15.20//NONSGML v1.0//EN
CALSCALE:GREGORIAN
METHOD:PUBLISH
X-WR-CALNAME:Leadership Embodiment
X-ORIGINAL-URL:https://leadershipembodiment.com
X-WR-CALDESC:Events for Leadership Embodiment
REFRESH-INTERVAL;VALUE=DURATION:PT1H
X-Robots-Tag:noindex
X-PUBLISHED-TTL:PT1H
BEGIN:VTIMEZONE
TZID:America/Los_Angeles
BEGIN:DAYLIGHT
TZOFFSETFROM:-0800
TZOFFSETTO:-0700
TZNAME:PDT
DTSTART:20180311T100000
END:DAYLIGHT
BEGIN:STANDARD
TZOFFSETFROM:-0700
TZOFFSETTO:-0800
TZNAME:PST
DTSTART:20181104T090000
END:STANDARD
BEGIN:DAYLIGHT
TZOFFSETFROM:-0800
TZOFFSETTO:-0700
TZNAME:PDT
DTSTART:20190310T100000
END:DAYLIGHT
BEGIN:STANDARD
TZOFFSETFROM:-0700
TZOFFSETTO:-0800
TZNAME:PST
DTSTART:20191103T090000
END:STANDARD
BEGIN:DAYLIGHT
TZOFFSETFROM:-0800
TZOFFSETTO:-0700
TZNAME:PDT
DTSTART:20200308T100000
END:DAYLIGHT
BEGIN:STANDARD
TZOFFSETFROM:-0700
TZOFFSETTO:-0800
TZNAME:PST
DTSTART:20201101T090000
END:STANDARD
END:VTIMEZONE
BEGIN:VEVENT
DTSTART;VALUE=DATE:20190301
DTEND;VALUE=DATE:20190303
DTSTAMP:20260423T222430
CREATED:20181116T185901Z
LAST-MODIFIED:20181116T185901Z
UID:10000741-1551398400-1551571199@leadershipembodiment.com
SUMMARY:Level 1 with Anouk Brack
DESCRIPTION:Join Anouk Brack for a 2-Day Level 1 in Destelbergen\, Belgium.  Language of the training is Dutch\, with explanation in English when necessary. For a description of a Level 1\, please see our courses page.  \nDates: 1-2 March 2019 \nFor more info or to register\, click here.
URL:https://leadershipembodiment.com/event/level-1-with-anouk-brack-5/
LOCATION:Institute for Attention & Mindfulness\, Magerstraat 107\, Destelbergen\, 9070\, Belgium
CATEGORIES:Europe
ATTACH;FMTTYPE=:
ORGANIZER;CN="Anouk Brack":MAILTO:Anouk.Brack@anouka.nl
END:VEVENT
END:VCALENDAR