BEGIN:VCALENDAR
VERSION:2.0
PRODID:-//Leadership Embodiment - ECPv6.15.20//NONSGML v1.0//EN
CALSCALE:GREGORIAN
METHOD:PUBLISH
X-ORIGINAL-URL:https://leadershipembodiment.com
X-WR-CALDESC:Events for Leadership Embodiment
REFRESH-INTERVAL;VALUE=DURATION:PT1H
X-Robots-Tag:noindex
X-PUBLISHED-TTL:PT1H
BEGIN:VTIMEZONE
TZID:Europe/Paris
BEGIN:DAYLIGHT
TZOFFSETFROM:+0100
TZOFFSETTO:+0200
TZNAME:CEST
DTSTART:20250330T010000
END:DAYLIGHT
BEGIN:STANDARD
TZOFFSETFROM:+0200
TZOFFSETTO:+0100
TZNAME:CET
DTSTART:20251026T010000
END:STANDARD
BEGIN:DAYLIGHT
TZOFFSETFROM:+0100
TZOFFSETTO:+0200
TZNAME:CEST
DTSTART:20260329T010000
END:DAYLIGHT
BEGIN:STANDARD
TZOFFSETFROM:+0200
TZOFFSETTO:+0100
TZNAME:CET
DTSTART:20261025T010000
END:STANDARD
BEGIN:DAYLIGHT
TZOFFSETFROM:+0100
TZOFFSETTO:+0200
TZNAME:CEST
DTSTART:20270328T010000
END:DAYLIGHT
BEGIN:STANDARD
TZOFFSETFROM:+0200
TZOFFSETTO:+0100
TZNAME:CET
DTSTART:20271031T010000
END:STANDARD
END:VTIMEZONE
BEGIN:VEVENT
DTSTART;VALUE=DATE:20260611
DTEND;VALUE=DATE:20260613
DTSTAMP:20260423T124441
CREATED:20260209T165258Z
LAST-MODIFIED:20260209T165258Z
UID:10001217-1781136000-1781308799@leadershipembodiment.com
SUMMARY:Leadership Embodiment Level 1 with Anne Berthelin (in French)
DESCRIPTION:Join Anne for a 2-Day Leadership Embodiment Level 1 in Paris. For a description of a Level 1\, please see our Public Courses page. For more information or to register\, please CLICK HERE. \nDates: 11-12 June 2026
URL:https://leadershipembodiment.com/event/leadership-embodiment-level-1-with-anne-berthelin-in-french-2/
LOCATION:MAISON D’ACCUEIL DE L’ASSOMPTION\, 17\, rue de l'Assomption\, Paris\, 75016\, France
CATEGORIES:Europe
ORGANIZER;CN="Anne Berthelin":MAILTO:anne.berthelin@accenciel.com
END:VEVENT
END:VCALENDAR