BEGIN:VCALENDAR
VERSION:2.0
PRODID:-//Leadership Embodiment - ECPv6.15.20//NONSGML v1.0//EN
CALSCALE:GREGORIAN
METHOD:PUBLISH
X-WR-CALNAME:Leadership Embodiment
X-ORIGINAL-URL:https://leadershipembodiment.com
X-WR-CALDESC:Events for Leadership Embodiment
REFRESH-INTERVAL;VALUE=DURATION:PT1H
X-Robots-Tag:noindex
X-PUBLISHED-TTL:PT1H
BEGIN:VTIMEZONE
TZID:America/Los_Angeles
BEGIN:DAYLIGHT
TZOFFSETFROM:-0800
TZOFFSETTO:-0700
TZNAME:PDT
DTSTART:20190310T100000
END:DAYLIGHT
BEGIN:STANDARD
TZOFFSETFROM:-0700
TZOFFSETTO:-0800
TZNAME:PST
DTSTART:20191103T090000
END:STANDARD
BEGIN:DAYLIGHT
TZOFFSETFROM:-0800
TZOFFSETTO:-0700
TZNAME:PDT
DTSTART:20200308T100000
END:DAYLIGHT
BEGIN:STANDARD
TZOFFSETFROM:-0700
TZOFFSETTO:-0800
TZNAME:PST
DTSTART:20201101T090000
END:STANDARD
BEGIN:DAYLIGHT
TZOFFSETFROM:-0800
TZOFFSETTO:-0700
TZNAME:PDT
DTSTART:20210314T100000
END:DAYLIGHT
BEGIN:STANDARD
TZOFFSETFROM:-0700
TZOFFSETTO:-0800
TZNAME:PST
DTSTART:20211107T090000
END:STANDARD
BEGIN:DAYLIGHT
TZOFFSETFROM:-0800
TZOFFSETTO:-0700
TZNAME:PDT
DTSTART:20220313T100000
END:DAYLIGHT
BEGIN:STANDARD
TZOFFSETFROM:-0700
TZOFFSETTO:-0800
TZNAME:PST
DTSTART:20221106T090000
END:STANDARD
BEGIN:DAYLIGHT
TZOFFSETFROM:-0800
TZOFFSETTO:-0700
TZNAME:PDT
DTSTART:20230312T100000
END:DAYLIGHT
BEGIN:STANDARD
TZOFFSETFROM:-0700
TZOFFSETTO:-0800
TZNAME:PST
DTSTART:20231105T090000
END:STANDARD
BEGIN:DAYLIGHT
TZOFFSETFROM:-0800
TZOFFSETTO:-0700
TZNAME:PDT
DTSTART:20240310T100000
END:DAYLIGHT
BEGIN:STANDARD
TZOFFSETFROM:-0700
TZOFFSETTO:-0800
TZNAME:PST
DTSTART:20241103T090000
END:STANDARD
END:VTIMEZONE
BEGIN:VEVENT
DTSTART;VALUE=DATE:20231106
DTEND;VALUE=DATE:20231108
DTSTAMP:20260424T015254
CREATED:20221229T171710Z
LAST-MODIFIED:20230522T152825Z
UID:10000950-1699228800-1699401599@leadershipembodiment.com
SUMMARY:Level 1 with Anouk Brack
DESCRIPTION:Join Anouk for a 2-Day Leadership Embodiment Level 1 in Munich\, Germany. This course will be taught in English. For a description of a Level 1\, please see our Public Courses Page. For more information or to register\, please CLICK HERE. \nDates: 6-7 November 2023 \n \nEurope
URL:https://leadershipembodiment.com/event/level-1-with-anouk-brack-19/
LOCATION:Munich Venue\, Munich\, Germany
CATEGORIES:Europe
ORGANIZER;CN="Anouk Brack":MAILTO:Anouk.Brack@anouka.nl
END:VEVENT
BEGIN:VEVENT
DTSTART;VALUE=DATE:20200716
DTEND;VALUE=DATE:20200718
DTSTAMP:20260424T015254
CREATED:20191002T181630Z
LAST-MODIFIED:20191002T181630Z
UID:10000344-1594857600-1595030399@leadershipembodiment.com
SUMMARY:Level 1 with Ute Kühlmann and Kerstin Härer
DESCRIPTION:Join Ute Kühlmann and Kerstin Härer for a 2-Day Level 1 in Munich or surrounds\, Germany. This course will be led in German. For a description of a Level 1\, please see our courses page.  \nFor more info or to register\, please click here.  \nDates: 16-17 July 2020
URL:https://leadershipembodiment.com/event/level-1-with-ute-kuhlmann-and-kerstin-harer-4/
LOCATION:Munich Venue\, Munich\, Germany
CATEGORIES:Europe
ATTACH;FMTTYPE=:
ORGANIZER;CN="Kerstin H%C3%A4rer":MAILTO:welcome@kerstin-haerer.com
END:VEVENT
BEGIN:VEVENT
DTSTART;VALUE=DATE:20200305
DTEND;VALUE=DATE:20200307
DTSTAMP:20260424T015254
CREATED:20191002T180837Z
LAST-MODIFIED:20191002T180837Z
UID:10000343-1583366400-1583539199@leadershipembodiment.com
SUMMARY:Level 1 with Ute Kühlmann and Kerstin Härer
DESCRIPTION:Join Ute Kühlmann and Kerstin Härer for a 2-Day Level 1 in Munich\, Germany. This course will be led in German. For a description of a Level 1\, please see our courses page.  \nDates: 5-6 March 2020 \nFor more info or to register\, please click here.
URL:https://leadershipembodiment.com/event/level-1-with-ute-kuhlmann-and-kerstin-harer-2/
LOCATION:Munich Venue\, Munich\, Germany
CATEGORIES:Europe
ATTACH;FMTTYPE=:
ORGANIZER;CN="Kerstin H%C3%A4rer":MAILTO:welcome@kerstin-haerer.com
END:VEVENT
END:VCALENDAR