BEGIN:VCALENDAR
VERSION:2.0
PRODID:-//Leadership Embodiment - ECPv6.15.20//NONSGML v1.0//EN
CALSCALE:GREGORIAN
METHOD:PUBLISH
X-ORIGINAL-URL:https://leadershipembodiment.com
X-WR-CALDESC:Events for Leadership Embodiment
REFRESH-INTERVAL;VALUE=DURATION:PT1H
X-Robots-Tag:noindex
X-PUBLISHED-TTL:PT1H
BEGIN:VTIMEZONE
TZID:America/Los_Angeles
BEGIN:DAYLIGHT
TZOFFSETFROM:-0800
TZOFFSETTO:-0700
TZNAME:PDT
DTSTART:20240310T100000
END:DAYLIGHT
BEGIN:STANDARD
TZOFFSETFROM:-0700
TZOFFSETTO:-0800
TZNAME:PST
DTSTART:20241103T090000
END:STANDARD
BEGIN:DAYLIGHT
TZOFFSETFROM:-0800
TZOFFSETTO:-0700
TZNAME:PDT
DTSTART:20250309T100000
END:DAYLIGHT
BEGIN:STANDARD
TZOFFSETFROM:-0700
TZOFFSETTO:-0800
TZNAME:PST
DTSTART:20251102T090000
END:STANDARD
BEGIN:DAYLIGHT
TZOFFSETFROM:-0800
TZOFFSETTO:-0700
TZNAME:PDT
DTSTART:20260308T100000
END:DAYLIGHT
BEGIN:STANDARD
TZOFFSETFROM:-0700
TZOFFSETTO:-0800
TZNAME:PST
DTSTART:20261101T090000
END:STANDARD
BEGIN:DAYLIGHT
TZOFFSETFROM:-0800
TZOFFSETTO:-0700
TZNAME:PDT
DTSTART:20270314T100000
END:DAYLIGHT
BEGIN:STANDARD
TZOFFSETFROM:-0700
TZOFFSETTO:-0800
TZNAME:PST
DTSTART:20271107T090000
END:STANDARD
END:VTIMEZONE
BEGIN:VTIMEZONE
TZID:UTC
BEGIN:STANDARD
TZOFFSETFROM:+0000
TZOFFSETTO:+0000
TZNAME:UTC
DTSTART:20140101T000000
END:STANDARD
END:VTIMEZONE
BEGIN:VEVENT
DTSTART;VALUE=DATE:20251023
DTEND;VALUE=DATE:20260418
DTSTAMP:20260424T015309
CREATED:20250307T153648Z
LAST-MODIFIED:20250307T162614Z
UID:10001156-1761177600-1776470399@leadershipembodiment.com
SUMMARY:Leadership Embodiment Coach Training EU 2025-2026
DESCRIPTION:The LECT Certification is a 6-month program tailored to professional coaches and facilitators offering the core foundations of LE training exercises with a focus on working with individuals and small groups/teams. This training consists of six modules\, three in-person and three virtual.  \nLE Level 1 & 2 courses are a prerequisite to the LECT. If you have attended a Level 1 course\, you may be able to attend a Level 2 course during the LECT program to meet the prerequisite requirements. Please reach out to the LECT program hub instructor to see if this option is available. \nThe venue for the three in person modules will be located in the Netherlands. If possible\, the location will be in a natural environment. After registration\, all information about the venue and transportation will be provided to you.  \nCost does not include food\, lodging\, or transportation. Please contact us regarding meal options. \nStart Date: October 25\, 2025 (Kick-off phone call) \nEnd Date: April 17\, 2026
URL:https://leadershipembodiment.com/event/leadership-embodiment-coach-training-eu-2025-2026/
LOCATION:Netherlands\, Netherlands
CATEGORIES:Europe
ORGANIZER;CN="Anouk Brack":MAILTO:Anouk.Brack@anouka.nl
GEO:52.132633;5.291266
END:VEVENT
BEGIN:VEVENT
DTSTART;VALUE=DATE:20150612
DTEND;VALUE=DATE:20150614
DTSTAMP:20260424T015309
CREATED:20150116T121247Z
LAST-MODIFIED:20150116T121247Z
UID:10000876-1434067200-1434239999@leadershipembodiment.com
SUMMARY:Leadership Embodiment Intermediate Arnhem
DESCRIPTION:Two-day training in central Arnhem (at the Shambhala Centre).\n09:30 – 17:30 each day. \nPrices: \n\n€297 before 1st May 2015\n€447 before 29 May 2015\n€597 after 30 May 2015\n\nMore details to be found here.
URL:https://leadershipembodiment.com/event/leadership-embodiment-intermediate-arnhem/
LOCATION:Netherlands\, Netherlands
CATEGORIES:Europe
ATTACH;FMTTYPE=:
ORGANIZER;CN="Anouk Brack":MAILTO:Anouk.Brack@anouka.nl
GEO:52.132633;5.291266
END:VEVENT
BEGIN:VEVENT
DTSTART;VALUE=DATE:20150227
DTEND;VALUE=DATE:20150301
DTSTAMP:20260424T015309
CREATED:20150116T115233Z
LAST-MODIFIED:20150116T115233Z
UID:10000871-1424995200-1425167999@leadershipembodiment.com
SUMMARY:Leadership Embodiment Fundamentals Arnhem
DESCRIPTION:Two-day training.\n09:30 – 17:30 each day. \nPrices: \n\n€197 before 16th January 2015\n€297 before 13th February 2015\n€397 after after 14th February 2015\n\nFind more information at http://www.centreforembodiedwisdom.com/event/leadership-embodiment-fundamentals-arnhem/.
URL:https://leadershipembodiment.com/event/leadership-embodiment-fundamentals-arnhem/
LOCATION:Netherlands\, Netherlands
CATEGORIES:Europe
ATTACH;FMTTYPE=:
ORGANIZER;CN="Anouk Brack":MAILTO:Anouk.Brack@anouka.nl
GEO:52.132633;5.291266
END:VEVENT
END:VCALENDAR