BEGIN:VCALENDAR
VERSION:2.0
PRODID:-//Leadership Embodiment - ECPv6.15.20//NONSGML v1.0//EN
CALSCALE:GREGORIAN
METHOD:PUBLISH
X-ORIGINAL-URL:https://leadershipembodiment.com
X-WR-CALDESC:Events for Leadership Embodiment
REFRESH-INTERVAL;VALUE=DURATION:PT1H
X-Robots-Tag:noindex
X-PUBLISHED-TTL:PT1H
BEGIN:VTIMEZONE
TZID:America/Los_Angeles
BEGIN:DAYLIGHT
TZOFFSETFROM:-0800
TZOFFSETTO:-0700
TZNAME:PDT
DTSTART:20190310T100000
END:DAYLIGHT
BEGIN:STANDARD
TZOFFSETFROM:-0700
TZOFFSETTO:-0800
TZNAME:PST
DTSTART:20191103T090000
END:STANDARD
BEGIN:DAYLIGHT
TZOFFSETFROM:-0800
TZOFFSETTO:-0700
TZNAME:PDT
DTSTART:20200308T100000
END:DAYLIGHT
BEGIN:STANDARD
TZOFFSETFROM:-0700
TZOFFSETTO:-0800
TZNAME:PST
DTSTART:20201101T090000
END:STANDARD
BEGIN:DAYLIGHT
TZOFFSETFROM:-0800
TZOFFSETTO:-0700
TZNAME:PDT
DTSTART:20210314T100000
END:DAYLIGHT
BEGIN:STANDARD
TZOFFSETFROM:-0700
TZOFFSETTO:-0800
TZNAME:PST
DTSTART:20211107T090000
END:STANDARD
BEGIN:DAYLIGHT
TZOFFSETFROM:-0800
TZOFFSETTO:-0700
TZNAME:PDT
DTSTART:20220313T100000
END:DAYLIGHT
BEGIN:STANDARD
TZOFFSETFROM:-0700
TZOFFSETTO:-0800
TZNAME:PST
DTSTART:20221106T090000
END:STANDARD
BEGIN:DAYLIGHT
TZOFFSETFROM:-0800
TZOFFSETTO:-0700
TZNAME:PDT
DTSTART:20230312T100000
END:DAYLIGHT
BEGIN:STANDARD
TZOFFSETFROM:-0700
TZOFFSETTO:-0800
TZNAME:PST
DTSTART:20231105T090000
END:STANDARD
BEGIN:DAYLIGHT
TZOFFSETFROM:-0800
TZOFFSETTO:-0700
TZNAME:PDT
DTSTART:20240310T100000
END:DAYLIGHT
BEGIN:STANDARD
TZOFFSETFROM:-0700
TZOFFSETTO:-0800
TZNAME:PST
DTSTART:20241103T090000
END:STANDARD
END:VTIMEZONE
BEGIN:VEVENT
DTSTART;VALUE=DATE:20230610
DTEND;VALUE=DATE:20230612
DTSTAMP:20260424T162235
CREATED:20230308T162900Z
LAST-MODIFIED:20230425T200411Z
UID:10001003-1686355200-1686527999@leadershipembodiment.com
SUMMARY:Level 1 with Paul Ciske
DESCRIPTION:Join Paul for a 2-Day Level 1 in Oakland\, California. For a description of a Level 1\, please see our Public Courses page. \nDates: June 10 – 11\, 2023 \nEarly registration cost: $450 until June 3 ($100 non-refundable* deposit to hold your space)\nLater registration cost: $500 after June 3\nPackage with Level 2 with Paul Ciske $900 — SAVES $100 ($200 non-refundable* deposit to hold your space) \n*For uncontrollable circumstances\, the deposit can be applied to a future training with Paul Ciske. \nTo register\, contact Paul Ciske: 510-912-5775 or email – paul@paulciske.com\, Include “June LE Fundamentals” in subject line.\nDates: June 10-11\, 2023\nCost: $450 before June 2. $500 if later. \n \nNorth America
URL:https://leadershipembodiment.com/event/level-1-with-paul-ciske-8/
LOCATION:Oakland Venue\, Oakland\, CA\, United States
CATEGORIES:North America
ORGANIZER;CN="Paul Ciske":MAILTO:paul@paulciske.com
END:VEVENT
BEGIN:VEVENT
DTSTART;VALUE=DATE:20230218
DTEND;VALUE=DATE:20230220
DTSTAMP:20260424T162235
CREATED:20221031T141017Z
LAST-MODIFIED:20230125T190659Z
UID:10000808-1676678400-1676851199@leadershipembodiment.com
SUMMARY:Level 1 with Paul Ciske
DESCRIPTION:Are you leading the life you desire?\nLeadership Embodiment Fundamentals (Level 1):\nCultivating Presence\, Confidence & Compassion \nDates: February 18-19\, 2023 \nJoin Paul Ciske for a 2-Day Level 1 in Oakland\, CA (Lake Merritt area). This course offers participants an introduction to LE\, language\, practices and principles for cultivating presence\, confidence and compassion. \nLevel 1 introduces practices for cultivating the 3 Fundamental LE Competencies:\n• Being inclusive\, especially in difficult situations\n• Listening to everything that is being said without taking things personally\n• Speaking up for what we believe in\, even in the face of resistance \nCLICK HERE FOR COURSE FLYER \n1) Registration will be limited to 8 participants\n2) As much of the course as possible will be held outside on a private deck. \nThis course is approved for the following CCE credits: \nCore Competencies 9\nResource Development 5 \n \n  \n  \n  \nTo register\, contact Paul Ciske: 510-912-5775 or email – paul@paulciske.com\, Include “February LE Fundamentals” in subject line.\nDates: February 18-19\, 2023\nCost: $500 \n \nNorth America
URL:https://leadershipembodiment.com/event/level-1-with-paul-ciske-7/
LOCATION:Oakland Venue\, Oakland\, CA\, United States
CATEGORIES:North America
ORGANIZER;CN="Paul Ciske":MAILTO:paul@paulciske.com
END:VEVENT
BEGIN:VEVENT
DTSTART;VALUE=DATE:20221015
DTEND;VALUE=DATE:20221017
DTSTAMP:20260424T162235
CREATED:20220819T173849Z
LAST-MODIFIED:20220819T173849Z
UID:10000804-1665792000-1665964799@leadershipembodiment.com
SUMMARY:Level 1 with Paul Ciske
DESCRIPTION:Are you leading the life you desire?\nLeadership Embodiment Fundamentals (Level 1):\nCultivating Presence\, Confidence & Compassion \nDates: October 15-16\, 2022 \nJoin Paul Ciske for a 2-Day Level 1 in Oakland\, CA (Lake Merritt area). This course offers participants an introduction to LE\, language\, practices and principles for cultivating presence\, confidence and compassion. \nLevel 1 introduces practices for cultivating the 3 Fundamental LE Competencies:\n• Being inclusive\, especially in difficult situations\n• Listening to everything that is being said without taking things personally\n• Speaking up for what we believe in\, even in the face of resistance \nClick for Flyer: Are you leading the life you desire? \n1) Registration will be limited to 8 participants\n2) As much of the course as possible will be held outside on a private deck.\nThis course is approved for the following CCE credits: \nCore Competencies 9\nResource Development 5 \n \n  \n  \n  \nTo register\, contact Paul Ciske: 510-912-5775 or email – paul@paulciske.com\, Include “October LE Fundamentals” in subject line.\nDates: October 15-16\, 2022\nCost: $500
URL:https://leadershipembodiment.com/event/level-1-with-paul-ciske-6/
LOCATION:Oakland Venue\, Oakland\, CA\, United States
CATEGORIES:North America
ORGANIZER;CN="Paul Ciske":MAILTO:paul@paulciske.com
END:VEVENT
BEGIN:VEVENT
DTSTART;VALUE=DATE:20200201
DTEND;VALUE=DATE:20200203
DTSTAMP:20260424T162235
CREATED:20191112T205321Z
LAST-MODIFIED:20191112T205321Z
UID:10000364-1580515200-1580687999@leadershipembodiment.com
SUMMARY:Level 1 with Paul Ciske
DESCRIPTION:Join Paul for a 2-Day Level 1 in Oakland\, California.  For a description of a Level 1\, please see our courses page.  \nLevel 1 Information:\nDates: February 1-2\, 2020\nTimes: 9:30am – 5:00pm \nInvestment:\nEarly registration cost: $500 until January 25th ($100 non-refundable* deposit to hold your space)\nLater registration cost: $550 after January 25th\nA limited number of partial scholarships may be available. Please send an email indicating your needs. \nPayment:\nPaypal to: paul@paulciske.com (please use “friends and family”)\nCheck – please mail check to:\nPaul Ciske\n351 Santa Clara Ave\nOakland\, CA 94610 \nPlease email all inquiries to paul@paulciske.com\nwith the subject heading of: \nLE Level 1 OAKLAND in February
URL:https://leadershipembodiment.com/event/level-1-with-paul-ciske-4/
LOCATION:Oakland Venue\, Oakland\, CA\, United States
CATEGORIES:North America
ATTACH;FMTTYPE=:
ORGANIZER;CN="Paul Ciske":MAILTO:paul@paulciske.com
END:VEVENT
END:VCALENDAR