BEGIN:VCALENDAR
VERSION:2.0
PRODID:-//Leadership Embodiment - ECPv6.15.20//NONSGML v1.0//EN
CALSCALE:GREGORIAN
METHOD:PUBLISH
X-ORIGINAL-URL:https://leadershipembodiment.com
X-WR-CALDESC:Events for Leadership Embodiment
REFRESH-INTERVAL;VALUE=DURATION:PT1H
X-Robots-Tag:noindex
X-PUBLISHED-TTL:PT1H
BEGIN:VTIMEZONE
TZID:America/Los_Angeles
BEGIN:DAYLIGHT
TZOFFSETFROM:-0800
TZOFFSETTO:-0700
TZNAME:PDT
DTSTART:20160313T100000
END:DAYLIGHT
BEGIN:STANDARD
TZOFFSETFROM:-0700
TZOFFSETTO:-0800
TZNAME:PST
DTSTART:20161106T090000
END:STANDARD
BEGIN:DAYLIGHT
TZOFFSETFROM:-0800
TZOFFSETTO:-0700
TZNAME:PDT
DTSTART:20170312T100000
END:DAYLIGHT
BEGIN:STANDARD
TZOFFSETFROM:-0700
TZOFFSETTO:-0800
TZNAME:PST
DTSTART:20171105T090000
END:STANDARD
BEGIN:DAYLIGHT
TZOFFSETFROM:-0800
TZOFFSETTO:-0700
TZNAME:PDT
DTSTART:20180311T100000
END:DAYLIGHT
BEGIN:STANDARD
TZOFFSETFROM:-0700
TZOFFSETTO:-0800
TZNAME:PST
DTSTART:20181104T090000
END:STANDARD
END:VTIMEZONE
BEGIN:VTIMEZONE
TZID:UTC
BEGIN:STANDARD
TZOFFSETFROM:+0000
TZOFFSETTO:+0000
TZNAME:UTC
DTSTART:20130101T000000
END:STANDARD
END:VTIMEZONE
BEGIN:VEVENT
DTSTART;VALUE=DATE:20171014
DTEND;VALUE=DATE:20171016
DTSTAMP:20260424T053215
CREATED:20170630T161730Z
LAST-MODIFIED:20170630T161730Z
UID:10000650-1507939200-1508111999@leadershipembodiment.com
SUMMARY:Level 1 with Paul King
DESCRIPTION:Join Paul King in Yorkshire\, England for a 2-day Level 1 workshop. For a description of a Level 1\, please see our Courses page.  \nDates: 14-15 October 2017
URL:https://leadershipembodiment.com/event/level-1-with-paul-king-14/
LOCATION:Oasis Centre\, Boston Spa\, West Yorkshire\, United Kingdom
CATEGORIES:Europe
ATTACH;FMTTYPE=:
ORGANIZER;CN="Paul King":MAILTO:paul@thebeyondpartnership.co.uk
END:VEVENT
BEGIN:VEVENT
DTSTART;VALUE=DATE:20141015
DTEND;VALUE=DATE:20141016
DTSTAMP:20260424T053215
CREATED:20140506T210432Z
LAST-MODIFIED:20140506T210432Z
UID:10000825-1413331200-1413417599@leadershipembodiment.com
SUMMARY:Leadership Embodiment for a Sustainable Future
DESCRIPTION:Wendy will be facilitating a day on Leadership Embodiment for a Sustainable Future with Oasis School of Human Relations in Boston Spa\, West Yorkshire.
URL:https://leadershipembodiment.com/event/leadership-embodiment-for-a-sustainable-future/
LOCATION:Oasis Centre\, Boston Spa\, West Yorkshire\, United Kingdom
CATEGORIES:Europe
END:VEVENT
END:VCALENDAR