BEGIN:VCALENDAR
VERSION:2.0
PRODID:-//Leadership Embodiment - ECPv6.15.20//NONSGML v1.0//EN
CALSCALE:GREGORIAN
METHOD:PUBLISH
X-WR-CALNAME:Leadership Embodiment
X-ORIGINAL-URL:https://leadershipembodiment.com
X-WR-CALDESC:Events for Leadership Embodiment
REFRESH-INTERVAL;VALUE=DURATION:PT1H
X-Robots-Tag:noindex
X-PUBLISHED-TTL:PT1H
BEGIN:VTIMEZONE
TZID:America/Los_Angeles
BEGIN:DAYLIGHT
TZOFFSETFROM:-0800
TZOFFSETTO:-0700
TZNAME:PDT
DTSTART:20150308T100000
END:DAYLIGHT
BEGIN:STANDARD
TZOFFSETFROM:-0700
TZOFFSETTO:-0800
TZNAME:PST
DTSTART:20151101T090000
END:STANDARD
BEGIN:DAYLIGHT
TZOFFSETFROM:-0800
TZOFFSETTO:-0700
TZNAME:PDT
DTSTART:20160313T100000
END:DAYLIGHT
BEGIN:STANDARD
TZOFFSETFROM:-0700
TZOFFSETTO:-0800
TZNAME:PST
DTSTART:20161106T090000
END:STANDARD
BEGIN:DAYLIGHT
TZOFFSETFROM:-0800
TZOFFSETTO:-0700
TZNAME:PDT
DTSTART:20170312T100000
END:DAYLIGHT
BEGIN:STANDARD
TZOFFSETFROM:-0700
TZOFFSETTO:-0800
TZNAME:PST
DTSTART:20171105T090000
END:STANDARD
END:VTIMEZONE
BEGIN:VTIMEZONE
TZID:UTC
BEGIN:STANDARD
TZOFFSETFROM:+0000
TZOFFSETTO:+0000
TZNAME:UTC
DTSTART:20130101T000000
END:STANDARD
END:VTIMEZONE
BEGIN:VEVENT
DTSTART;VALUE=DATE:20160518
DTEND;VALUE=DATE:20160520
DTSTAMP:20260424T172501
CREATED:20151029T225539Z
LAST-MODIFIED:20151029T225539Z
UID:10000526-1463529600-1463702399@leadershipembodiment.com
SUMMARY:Level 2 with Karen White and Lisa Hansford
DESCRIPTION:Join Karen White and Lisa Hansford for a Level 2 workshop in the Cape Town\, South Africa area. \n \nDates:\n18 May 2016\n19 May 2016
URL:https://leadershipembodiment.com/event/level-2-with-karen-white-and-lisa-hansford/
LOCATION:Old Mutual House\, 33 Klaassens Rd\, Constantia\, Western Cape\, South Africa
CATEGORIES:South Africa
ORGANIZER;CN="Karen White":MAILTO:karen@thehumanconnection.co.za
END:VEVENT
BEGIN:VEVENT
DTSTART;VALUE=DATE:20160203
DTEND;VALUE=DATE:20160205
DTSTAMP:20260424T172501
CREATED:20151029T223534Z
LAST-MODIFIED:20151029T223534Z
UID:10000525-1454457600-1454630399@leadershipembodiment.com
SUMMARY:Level 1 with Karen White and Lisa Hansford
DESCRIPTION:Join Karen White and Lisa Hansford in the Cape Town area of South Africa for a 2-day Level 1 workshop. \nDates: February 3rd & 4th\, 2016
URL:https://leadershipembodiment.com/event/level-1-with-karen-white-and-lisa-hansford-2/
LOCATION:Old Mutual House\, 33 Klaassens Rd\, Constantia\, Western Cape\, South Africa
CATEGORIES:South Africa
ORGANIZER;CN="Karen White":MAILTO:karen@thehumanconnection.co.za
END:VEVENT
BEGIN:VEVENT
DTSTART;VALUE=DATE:20151021
DTEND;VALUE=DATE:20151024
DTSTAMP:20260424T172501
CREATED:20140221T200329Z
LAST-MODIFIED:20140221T200329Z
UID:10000822-1445385600-1445644799@leadershipembodiment.com
SUMMARY:9 Month LE Teacher Training (5th of 5 sessions)
DESCRIPTION:Wendy Palmer and Karen White will be leading a 9-month teacher training course in the Cape Town area of South Africa.  The course dates are:\n12 – 14 November\, 2014 (Led by Wendy Palmer)\n11 – 13 February\, 2015 (led by Karen White)\n15 – 17 April 2015 (led by Wendy Palmer)\n15 – 17 July 2015 (led by Karen White)\n21 – 23 October 2015 (led by Wendy Palmer) \nYou must have attended/completed a Leadership Embodiment Level 1\, Level 2\, and Retreat to register for this training.  \nAll sessions will take place at the Old Mutual House (map below).  Registration and enrollment fees will be handled by Karen White at The Human Connection (contact information below).  Please check out our calendar for opportunities to attend the prerequisite courses before November.
URL:https://leadershipembodiment.com/event/9-month-le-teacher-training-5th-of-5-sessions/
LOCATION:Old Mutual House\, 33 Klaassens Rd\, Constantia\, Western Cape\, South Africa
CATEGORIES:South Africa
ORGANIZER;CN="Karen White":MAILTO:karen@thehumanconnection.co.za
END:VEVENT
BEGIN:VEVENT
DTSTART;VALUE=DATE:20150929
DTEND;VALUE=DATE:20151001
DTSTAMP:20260424T172501
CREATED:20150702T210304Z
LAST-MODIFIED:20150702T210304Z
UID:10000942-1443484800-1443657599@leadershipembodiment.com
SUMMARY:Level 1 with Karen White and Lisa Hansford
DESCRIPTION:Join Karen White and Lisa Hansford for a 2-day workshop at Old Mutual House in the Cape Town area of South Africa.   \nDates: September 29 & 30\, 2015\nTimes: 9:30 am – 4:00 pm
URL:https://leadershipembodiment.com/event/level-1-with-karen-white-and-lisa-hansford/
LOCATION:Old Mutual House\, 33 Klaassens Rd\, Constantia\, Western Cape\, South Africa
CATEGORIES:South Africa
ORGANIZER;CN="Karen White":MAILTO:karen@thehumanconnection.co.za
END:VEVENT
BEGIN:VEVENT
DTSTART;VALUE=DATE:20150715
DTEND;VALUE=DATE:20150718
DTSTAMP:20260424T172501
CREATED:20140221T200051Z
LAST-MODIFIED:20140221T200051Z
UID:10000821-1436918400-1437177599@leadershipembodiment.com
SUMMARY:9 Month LE Teacher Training (4th of 5 sessions)
DESCRIPTION:Wendy Palmer and Karen White will be leading a 9-month teacher training course in the Cape Town area of South Africa.  The course dates are:\n12 – 14 November\, 2014 (Led by Wendy Palmer)\n11 – 13 February\, 2015 (led by Karen White)\n15 – 17 April 2015 (led by Wendy Palmer)\n15 – 17 July 2015 (led by Karen White)\n21 – 23 October 2015 (led by Wendy Palmer) \nYou must have attended/completed a Leadership Embodiment Level 1\, Level 2\, and Retreat to register for this training.  \nAll sessions will take place at the Old Mutual House (map below).  Registration and enrollment fees will be handled by Karen White at The Human Connection (contact information below).  Please check out our calendar for opportunities to attend the prerequisite courses before November.
URL:https://leadershipembodiment.com/event/9-month-le-teacher-training-4th-of-5-sessions/
LOCATION:Old Mutual House\, 33 Klaassens Rd\, Constantia\, Western Cape\, South Africa
CATEGORIES:South Africa
ORGANIZER;CN="Karen White":MAILTO:karen@thehumanconnection.co.za
END:VEVENT
BEGIN:VEVENT
DTSTART;VALUE=DATE:20150520
DTEND;VALUE=DATE:20150522
DTSTAMP:20260424T172501
CREATED:20150121T003918Z
LAST-MODIFIED:20150121T003918Z
UID:10000904-1432080000-1432252799@leadershipembodiment.com
SUMMARY:Level 2 with Karen White & Lisa Hansford in Cape Town (2 Days)
DESCRIPTION:Join Karen White & Lisa Hansford for a 2-day Level 2 course in Cape Town.  Please note that a Level 1 is a prerequisite for attending a Level 2.  (See our courses page for a description of a Level 2 workshop).  For more information\, please contact Karen White at The Human Connection.
URL:https://leadershipembodiment.com/event/level-2-with-karen-white-lisa-hansford-in-cape-town-2-days/
LOCATION:Old Mutual House\, 33 Klaassens Rd\, Constantia\, Western Cape\, South Africa
CATEGORIES:South Africa
ORGANIZER;CN="Karen White":MAILTO:karen@thehumanconnection.co.za
END:VEVENT
BEGIN:VEVENT
DTSTART;VALUE=DATE:20150415
DTEND;VALUE=DATE:20150418
DTSTAMP:20260424T172501
CREATED:20140221T195718Z
LAST-MODIFIED:20140221T195718Z
UID:10000820-1429056000-1429315199@leadershipembodiment.com
SUMMARY:9 Month LE Teacher Training (3rd of 5 sessions)
DESCRIPTION:Wendy Palmer and Karen White will be leading a 9-month teacher training course in the Cape Town area of South Africa.  The course dates are:\n12 – 14 November\, 2014 (Led by Wendy Palmer)\n11 – 13 February\, 2015 (led by Karen White)\n15 – 17 April 2015 (led by Wendy Palmer)\n15 – 17 July 2015 (led by Karen White)\n21 – 23 October 2015 (led by Wendy Palmer) \nYou must have attended/completed a Leadership Embodiment Level 1\, Level 2\, and Retreat to register for this training.  \nAll sessions will take place at the Old Mutual House (map below).  Registration and enrollment fees will be handled by Karen White at The Human Connection (contact information below).  Please check out our calendar for opportunities to attend the prerequisite courses before November.
URL:https://leadershipembodiment.com/event/9-month-le-teacher-training-3rd-of-5-sessions/
LOCATION:Old Mutual House\, 33 Klaassens Rd\, Constantia\, Western Cape\, South Africa
CATEGORIES:South Africa
ORGANIZER;CN="Karen White":MAILTO:karen@thehumanconnection.co.za
END:VEVENT
BEGIN:VEVENT
DTSTART;VALUE=DATE:20150326
DTEND;VALUE=DATE:20150328
DTSTAMP:20260424T172501
CREATED:20150121T000703Z
LAST-MODIFIED:20150121T000703Z
UID:10000902-1427328000-1427500799@leadershipembodiment.com
SUMMARY:Level 1 with Karen White & Kerry Hammerton in Cape Town (2 Days)
DESCRIPTION:Join Karen White & Kerry Hammerton for a 2 Day Level 1 course in Cape Town. (See our courses page for a full description of a Level 1.) Please note that completion of a Level 1 is required before attending a Leadership Embodiment Intensive Retreat. For more information visit The Human Connection.
URL:https://leadershipembodiment.com/event/level-1-with-karen-white-kerry-hammerton-in-cape-town-2-days/
LOCATION:Old Mutual House\, 33 Klaassens Rd\, Constantia\, Western Cape\, South Africa
CATEGORIES:South Africa
ORGANIZER;CN="Karen White":MAILTO:karen@thehumanconnection.co.za
END:VEVENT
BEGIN:VEVENT
DTSTART;VALUE=DATE:20150211
DTEND;VALUE=DATE:20150214
DTSTAMP:20260424T172501
CREATED:20140221T195423Z
LAST-MODIFIED:20140221T195423Z
UID:10000819-1423612800-1423871999@leadershipembodiment.com
SUMMARY:9 Month LE Teacher Training (2nd of 5 sessions)
DESCRIPTION:Wendy Palmer and Karen White will be leading a 9-month teacher training course in the Cape Town area of South Africa.  The course dates are:\n12 – 14 November\, 2014 (Led by Wendy Palmer)\n11 – 13 February\, 2015 (led by Karen White)\n15 – 17 April 2015 (led by Wendy Palmer)\n15 – 17 July 2015 (led by Karen White)\n21 – 23 October 2015 (led by Wendy Palmer) \nYou must have attended/completed a Leadership Embodiment Level 1\, Level 2\, and Retreat to register for this training.  \nAll sessions will take place at the Old Mutual House (map below).  Registration and enrollment fees will be handled by Karen White at The Human Connection (contact information below).  Please check out our calendar for opportunities to attend the prerequisite courses before November.
URL:https://leadershipembodiment.com/event/9-month-le-teacher-training-2nd-of-5-sessions/
LOCATION:Old Mutual House\, 33 Klaassens Rd\, Constantia\, Western Cape\, South Africa
CATEGORIES:South Africa
ORGANIZER;CN="Karen White":MAILTO:karen@thehumanconnection.co.za
END:VEVENT
BEGIN:VEVENT
DTSTART;VALUE=DATE:20150128
DTEND;VALUE=DATE:20150130
DTSTAMP:20260424T172501
CREATED:20150121T000414Z
LAST-MODIFIED:20150121T000414Z
UID:10000901-1422403200-1422575999@leadershipembodiment.com
SUMMARY:Level 1 with Karen White & Lisa Hansford in Cape Town (2 Days)
DESCRIPTION:Join Karen White & Lisa Hansford in Cape Town for a 2-Day Level 1 course. (See our courses page for a full description of a Level 1.) Please note that completion of a Level 1 is required before attending a Leadership Embodiment Intensive Retreat. For costs\, registration\, or more information see: Level 1 – Cape Town – January 2015
URL:https://leadershipembodiment.com/event/level-1-with-karen-white-lisa-hansford-in-cape-town-2-days/
LOCATION:Old Mutual House\, 33 Klaassens Rd\, Constantia\, Western Cape\, South Africa
CATEGORIES:South Africa
ORGANIZER;CN="Karen White":MAILTO:karen@thehumanconnection.co.za
END:VEVENT
BEGIN:VEVENT
DTSTART;VALUE=DATE:20141112
DTEND;VALUE=DATE:20141115
DTSTAMP:20260424T172501
CREATED:20140221T195118Z
LAST-MODIFIED:20140221T195118Z
UID:10000818-1415750400-1416009599@leadershipembodiment.com
SUMMARY:9 Month LE Teacher Training - (1st of 5 sessions)
DESCRIPTION:Wendy Palmer and Karen White will be leading a 9-month teacher training course in the Cape Town area of South Africa.  The course dates are:\n12 – 14 November\, 2014 (Led by Wendy Palmer)\n11 – 13 February\, 2015 (led by Karen White)\n15 – 17 April 2015 (led by Wendy Palmer)\n15 – 17 July 2015 (led by Karen White)\n21 – 23 October 2015 (led by Wendy Palmer) \nYou must have attended/completed a Leadership Embodiment Level 1\, Level 2\, and Retreat to register for this training.  \nAll sessions will take place at the Old Mutual House (map below).  Registration and enrollment fees will be handled by Karen White at The Human Connection (contact information below).  Please check out our calendar for opportunities to attend the prerequisite courses before November.
URL:https://leadershipembodiment.com/event/9-month-le-teacher-training-1st-of-5-sessions/
LOCATION:Old Mutual House\, 33 Klaassens Rd\, Constantia\, Western Cape\, South Africa
CATEGORIES:South Africa
ORGANIZER;CN="Karen White":MAILTO:karen@thehumanconnection.co.za
END:VEVENT
BEGIN:VEVENT
DTSTART;VALUE=DATE:20140827
DTEND;VALUE=DATE:20140829
DTSTAMP:20260424T172501
CREATED:20140220T222351Z
LAST-MODIFIED:20140220T222351Z
UID:10000816-1409097600-1409270399@leadershipembodiment.com
SUMMARY:Level 1 with Karen White (2 Day Workshop)
DESCRIPTION:Level 1 with Karen White in Cape Town.  Please see here to register or for more information.\nOld Mutual House\nCape Town
URL:https://leadershipembodiment.com/event/level-1-with-karen-white/
LOCATION:Old Mutual House\, 33 Klaassens Rd\, Constantia\, Western Cape\, South Africa
CATEGORIES:South Africa
ORGANIZER;CN="Karen White":MAILTO:karen@thehumanconnection.co.za
END:VEVENT
END:VCALENDAR