BEGIN:VCALENDAR
VERSION:2.0
PRODID:-//Leadership Embodiment - ECPv6.15.20//NONSGML v1.0//EN
CALSCALE:GREGORIAN
METHOD:PUBLISH
X-WR-CALNAME:Leadership Embodiment
X-ORIGINAL-URL:https://leadershipembodiment.com
X-WR-CALDESC:Events for Leadership Embodiment
REFRESH-INTERVAL;VALUE=DURATION:PT1H
X-Robots-Tag:noindex
X-PUBLISHED-TTL:PT1H
BEGIN:VTIMEZONE
TZID:America/Los_Angeles
BEGIN:DAYLIGHT
TZOFFSETFROM:-0800
TZOFFSETTO:-0700
TZNAME:PDT
DTSTART:20150308T100000
END:DAYLIGHT
BEGIN:STANDARD
TZOFFSETFROM:-0700
TZOFFSETTO:-0800
TZNAME:PST
DTSTART:20151101T090000
END:STANDARD
BEGIN:DAYLIGHT
TZOFFSETFROM:-0800
TZOFFSETTO:-0700
TZNAME:PDT
DTSTART:20160313T100000
END:DAYLIGHT
BEGIN:STANDARD
TZOFFSETFROM:-0700
TZOFFSETTO:-0800
TZNAME:PST
DTSTART:20161106T090000
END:STANDARD
BEGIN:DAYLIGHT
TZOFFSETFROM:-0800
TZOFFSETTO:-0700
TZNAME:PDT
DTSTART:20170312T100000
END:DAYLIGHT
BEGIN:STANDARD
TZOFFSETFROM:-0700
TZOFFSETTO:-0800
TZNAME:PST
DTSTART:20171105T090000
END:STANDARD
END:VTIMEZONE
BEGIN:VTIMEZONE
TZID:UTC
BEGIN:STANDARD
TZOFFSETFROM:+0000
TZOFFSETTO:+0000
TZNAME:UTC
DTSTART:20130101T000000
END:STANDARD
END:VTIMEZONE
BEGIN:VEVENT
DTSTART;VALUE=DATE:20160912
DTEND;VALUE=DATE:20160913
DTSTAMP:20260423T192818
CREATED:20160412T222650Z
LAST-MODIFIED:20160412T222650Z
UID:10000564-1473638400-1473724799@leadershipembodiment.com
SUMMARY:Level 1 with Pierre Goirand (Day 1 of 2)
DESCRIPTION:Join Pierre Goirand for a 2-day Level 1 Fundamentals course in Paris\, France.  For a description of our Level 1\, please see our courses page.   \nDay 1 – September 12\, 2016\nDay 2 – October 6\, 2016
URL:https://leadershipembodiment.com/event/level-1-with-pierre-goirand-day-1-of-2-2/
LOCATION:Paris Venue\, Paris\, France
CATEGORIES:Europe
ATTACH;FMTTYPE=:
ORGANIZER;CN="Pierre Goirand":MAILTO:contact@presenceleadership.net
END:VEVENT
BEGIN:VEVENT
DTSTART;VALUE=DATE:20160624
DTEND;VALUE=DATE:20160626
DTSTAMP:20260423T192818
CREATED:20151108T204628Z
LAST-MODIFIED:20151108T204628Z
UID:10000541-1466726400-1466899199@leadershipembodiment.com
SUMMARY:Level 2 with Pierre Goirand
DESCRIPTION:Join Pierre Goirand for a 2 Day Level 2 workshop in lovely Paris\, France. Read a full description of our Level 2 course here. For more information\, see the detailed program here: Presence & Leadership Calendrie Formations 2015 \nDates: 24 & 25 June 2016
URL:https://leadershipembodiment.com/event/level-2-with-pierre-goirand/
LOCATION:Paris Venue\, Paris\, France
CATEGORIES:Europe
ATTACH;FMTTYPE=:
ORGANIZER;CN="Pierre Goirand":MAILTO:contact@presenceleadership.net
END:VEVENT
BEGIN:VEVENT
DTSTART;VALUE=DATE:20160414
DTEND;VALUE=DATE:20160415
DTSTAMP:20260423T192818
CREATED:20151108T204339Z
LAST-MODIFIED:20151108T204339Z
UID:10000540-1460592000-1460678399@leadershipembodiment.com
SUMMARY:Level 1 with Pierre Goirand (14 April & 2 June)
DESCRIPTION:Join Pierre Goirand for a 2 Day Level 1 workshop in lovely Paris\, France. Read a full description of our Level 1 course here. For more information\, see the detailed program here: Presence & Leadership Calendrie Formations 2015 \n(Please note a completion of a Level 1 course is required before attending a Leadership Embodiment Retreat or a Level 2 course.) \n  \n \n  \nDay 1: 14 April 2016\nDay 2: 2 June 2016
URL:https://leadershipembodiment.com/event/level-1-with-pierre-goirand-14-april-2-june/
LOCATION:Paris Venue\, Paris\, France
CATEGORIES:Europe
ATTACH;FMTTYPE=:
ORGANIZER;CN="Pierre Goirand":MAILTO:contact@presenceleadership.net
END:VEVENT
BEGIN:VEVENT
DTSTART;VALUE=DATE:20160204
DTEND;VALUE=DATE:20160205
DTSTAMP:20260423T192818
CREATED:20151108T203929Z
LAST-MODIFIED:20151108T203929Z
UID:10000539-1454544000-1454630399@leadershipembodiment.com
SUMMARY:Level 1 with Pierre Goirand (February 4 & March 10)
DESCRIPTION:Join Pierre Goirand for a 2 Day Level 1 workshop in lovely Paris\, France. Read a full description of our Level 1 course here. For more information\, see the detailed program here: Presence & Leadership Calendrie Formations 2015  \n(Please note a completion of a Level 1 course is required before attending a Leadership Embodiment Retreat or a Level 2 course.) \nDay 1: 4 February 2016\nDay 2: 10 March 2016
URL:https://leadershipembodiment.com/event/level-1-with-pierre-goirand-february-4-march-10/
LOCATION:Paris Venue\, Paris\, France
CATEGORIES:Europe
ATTACH;FMTTYPE=:
ORGANIZER;CN="Pierre Goirand":MAILTO:contact@presenceleadership.net
END:VEVENT
BEGIN:VEVENT
DTSTART;VALUE=DATE:20141204
DTEND;VALUE=DATE:20141205
DTSTAMP:20260423T192818
CREATED:20140215T173435Z
LAST-MODIFIED:20140215T173435Z
UID:10000814-1417651200-1417737599@leadershipembodiment.com
SUMMARY:Leadership Embodiment Level 1 with Pierre Goirand
DESCRIPTION:Pierre Goirand presents a two day LE Level 1 course in Paris on 6 November and 4 December 2014.
URL:https://leadershipembodiment.com/event/leadership-embodiment-level-1-with-pierre-goirand/
LOCATION:Paris Venue\, Paris\, France
CATEGORIES:Europe
ORGANIZER;CN="Pierre Goirand":MAILTO:contact@presenceleadership.net
END:VEVENT
BEGIN:VEVENT
DTSTART;VALUE=DATE:20141106
DTEND;VALUE=DATE:20141107
DTSTAMP:20260423T192818
CREATED:20140215T173928Z
LAST-MODIFIED:20140215T173928Z
UID:10000815-1415232000-1415318399@leadershipembodiment.com
SUMMARY:Leadership Embodiment Level 1 with Pierre Goirand
DESCRIPTION:Pierre Goirand presents a two day LE Level 1 course in Paris on 6 November and 4 December 2014.
URL:https://leadershipembodiment.com/event/leadership-embodiment-level-1-with-pierre-goirand-day-1-of-2-2/
LOCATION:Paris Venue\, Paris\, France
CATEGORIES:Europe
ORGANIZER;CN="Pierre Goirand":MAILTO:contact@presenceleadership.net
END:VEVENT
END:VCALENDAR