BEGIN:VCALENDAR
VERSION:2.0
PRODID:-//Leadership Embodiment - ECPv6.15.20//NONSGML v1.0//EN
CALSCALE:GREGORIAN
METHOD:PUBLISH
X-ORIGINAL-URL:https://leadershipembodiment.com
X-WR-CALDESC:Events for Leadership Embodiment
REFRESH-INTERVAL;VALUE=DURATION:PT1H
X-Robots-Tag:noindex
X-PUBLISHED-TTL:PT1H
BEGIN:VTIMEZONE
TZID:America/Los_Angeles
BEGIN:DAYLIGHT
TZOFFSETFROM:-0800
TZOFFSETTO:-0700
TZNAME:PDT
DTSTART:20170312T100000
END:DAYLIGHT
BEGIN:STANDARD
TZOFFSETFROM:-0700
TZOFFSETTO:-0800
TZNAME:PST
DTSTART:20171105T090000
END:STANDARD
BEGIN:DAYLIGHT
TZOFFSETFROM:-0800
TZOFFSETTO:-0700
TZNAME:PDT
DTSTART:20180311T100000
END:DAYLIGHT
BEGIN:STANDARD
TZOFFSETFROM:-0700
TZOFFSETTO:-0800
TZNAME:PST
DTSTART:20181104T090000
END:STANDARD
BEGIN:DAYLIGHT
TZOFFSETFROM:-0800
TZOFFSETTO:-0700
TZNAME:PDT
DTSTART:20190310T100000
END:DAYLIGHT
BEGIN:STANDARD
TZOFFSETFROM:-0700
TZOFFSETTO:-0800
TZNAME:PST
DTSTART:20191103T090000
END:STANDARD
END:VTIMEZONE
BEGIN:VEVENT
DTSTART;TZID=America/Los_Angeles:20180920T183000
DTEND;TZID=America/Los_Angeles:20180920T203000
DTSTAMP:20260424T025549
CREATED:20180808T160603Z
LAST-MODIFIED:20180808T160603Z
UID:10000724-1537468200-1537475400@leadershipembodiment.com
SUMMARY:Introduction to Leadership Embodiment with Miryam Chavarría Romero\, PCC
DESCRIPTION:Join Miryam for a 2-Hour Introduction to Leadership Embodiment Workshop in Seattle\, Washington.  For more information and to register\, please click here.   \nDate: September 20\, 2018\nTime: 6:30 pm
URL:https://leadershipembodiment.com/event/introduction-to-leadership-embodiment-with-miryam-chavarria-romero-pcc/
LOCATION:Phinney Neighborhood Association\, 6532 Phinney Avenue North Room 3\, Seattle\, WA\, 98103\, United States
CATEGORIES:North America
ATTACH;FMTTYPE=:
ORGANIZER;CN="Miryam Chavarria Romero":MAILTO:miryam@phoenixleadershipcoaching.com
GEO:47.6771082;-122.3539876
X-APPLE-STRUCTURED-LOCATION;VALUE=URI;X-ADDRESS=Phinney Neighborhood Association 6532 Phinney Avenue North Room 3 Seattle WA 98103 United States;X-APPLE-RADIUS=500;X-TITLE=6532 Phinney Avenue North Room 3:geo:-122.3539876,47.6771082
END:VEVENT
END:VCALENDAR