BEGIN:VCALENDAR
VERSION:2.0
PRODID:-//Leadership Embodiment - ECPv6.15.20//NONSGML v1.0//EN
CALSCALE:GREGORIAN
METHOD:PUBLISH
X-ORIGINAL-URL:https://leadershipembodiment.com
X-WR-CALDESC:Events for Leadership Embodiment
REFRESH-INTERVAL;VALUE=DURATION:PT1H
X-Robots-Tag:noindex
X-PUBLISHED-TTL:PT1H
BEGIN:VTIMEZONE
TZID:UTC
BEGIN:STANDARD
TZOFFSETFROM:+0000
TZOFFSETTO:+0000
TZNAME:UTC
DTSTART:20130101T000000
END:STANDARD
END:VTIMEZONE
BEGIN:VEVENT
DTSTART;VALUE=DATE:20140926
DTEND;VALUE=DATE:20140929
DTSTAMP:20260424T053205
CREATED:20140629T073544Z
LAST-MODIFIED:20140629T073544Z
UID:10000833-1411689600-1411948799@leadershipembodiment.com
SUMMARY:Bright Now Festival
DESCRIPTION:The strength of a gentle society \nConnecting with each other and opening our hearts to the question of how to develop a good human society. Moving the world in a positive direction requires vision\, courage and trust. This festival combines training inner strength and leadership with contemplative arts and communication skills. A variety of inspiring initiatives in the areas of sustainable economy\, education and health come together. \nYou’re welcome – Be Bright Now! \nThis innovative festival is organized by Shambhala Netherlands in cooperation with Knowmads.
URL:https://leadershipembodiment.com/event/bright-now-festival/
LOCATION:Royal Tropical Institute\, Amsterdam\, Netherlands
CATEGORIES:Europe
ATTACH;FMTTYPE=:
ORGANIZER;CN="Anouk Brack":MAILTO:Anouk.Brack@anouka.nl
END:VEVENT
END:VCALENDAR