BEGIN:VCALENDAR
VERSION:2.0
PRODID:-//Leadership Embodiment - ECPv6.15.20//NONSGML v1.0//EN
CALSCALE:GREGORIAN
METHOD:PUBLISH
X-ORIGINAL-URL:https://leadershipembodiment.com
X-WR-CALDESC:Events for Leadership Embodiment
REFRESH-INTERVAL;VALUE=DURATION:PT1H
X-Robots-Tag:noindex
X-PUBLISHED-TTL:PT1H
BEGIN:VTIMEZONE
TZID:America/Los_Angeles
BEGIN:DAYLIGHT
TZOFFSETFROM:-0800
TZOFFSETTO:-0700
TZNAME:PDT
DTSTART:20170312T100000
END:DAYLIGHT
BEGIN:STANDARD
TZOFFSETFROM:-0700
TZOFFSETTO:-0800
TZNAME:PST
DTSTART:20171105T090000
END:STANDARD
BEGIN:DAYLIGHT
TZOFFSETFROM:-0800
TZOFFSETTO:-0700
TZNAME:PDT
DTSTART:20180311T100000
END:DAYLIGHT
BEGIN:STANDARD
TZOFFSETFROM:-0700
TZOFFSETTO:-0800
TZNAME:PST
DTSTART:20181104T090000
END:STANDARD
BEGIN:DAYLIGHT
TZOFFSETFROM:-0800
TZOFFSETTO:-0700
TZNAME:PDT
DTSTART:20190310T100000
END:DAYLIGHT
BEGIN:STANDARD
TZOFFSETFROM:-0700
TZOFFSETTO:-0800
TZNAME:PST
DTSTART:20191103T090000
END:STANDARD
BEGIN:DAYLIGHT
TZOFFSETFROM:-0800
TZOFFSETTO:-0700
TZNAME:PDT
DTSTART:20200308T100000
END:DAYLIGHT
BEGIN:STANDARD
TZOFFSETFROM:-0700
TZOFFSETTO:-0800
TZNAME:PST
DTSTART:20201101T090000
END:STANDARD
BEGIN:DAYLIGHT
TZOFFSETFROM:-0800
TZOFFSETTO:-0700
TZNAME:PDT
DTSTART:20210314T100000
END:DAYLIGHT
BEGIN:STANDARD
TZOFFSETFROM:-0700
TZOFFSETTO:-0800
TZNAME:PST
DTSTART:20211107T090000
END:STANDARD
BEGIN:DAYLIGHT
TZOFFSETFROM:-0800
TZOFFSETTO:-0700
TZNAME:PDT
DTSTART:20220313T100000
END:DAYLIGHT
BEGIN:STANDARD
TZOFFSETFROM:-0700
TZOFFSETTO:-0800
TZNAME:PST
DTSTART:20221106T090000
END:STANDARD
BEGIN:DAYLIGHT
TZOFFSETFROM:-0800
TZOFFSETTO:-0700
TZNAME:PDT
DTSTART:20230312T100000
END:DAYLIGHT
BEGIN:STANDARD
TZOFFSETFROM:-0700
TZOFFSETTO:-0800
TZNAME:PST
DTSTART:20231105T090000
END:STANDARD
BEGIN:DAYLIGHT
TZOFFSETFROM:-0800
TZOFFSETTO:-0700
TZNAME:PDT
DTSTART:20240310T100000
END:DAYLIGHT
BEGIN:STANDARD
TZOFFSETFROM:-0700
TZOFFSETTO:-0800
TZNAME:PST
DTSTART:20241103T090000
END:STANDARD
BEGIN:DAYLIGHT
TZOFFSETFROM:-0800
TZOFFSETTO:-0700
TZNAME:PDT
DTSTART:20250309T100000
END:DAYLIGHT
BEGIN:STANDARD
TZOFFSETFROM:-0700
TZOFFSETTO:-0800
TZNAME:PST
DTSTART:20251102T090000
END:STANDARD
END:VTIMEZONE
BEGIN:VTIMEZONE
TZID:Europe/London
BEGIN:DAYLIGHT
TZOFFSETFROM:+0000
TZOFFSETTO:+0100
TZNAME:BST
DTSTART:20150329T010000
END:DAYLIGHT
BEGIN:STANDARD
TZOFFSETFROM:+0100
TZOFFSETTO:+0000
TZNAME:GMT
DTSTART:20151025T010000
END:STANDARD
BEGIN:DAYLIGHT
TZOFFSETFROM:+0000
TZOFFSETTO:+0100
TZNAME:BST
DTSTART:20160327T010000
END:DAYLIGHT
BEGIN:STANDARD
TZOFFSETFROM:+0100
TZOFFSETTO:+0000
TZNAME:GMT
DTSTART:20161030T010000
END:STANDARD
BEGIN:DAYLIGHT
TZOFFSETFROM:+0000
TZOFFSETTO:+0100
TZNAME:BST
DTSTART:20170326T010000
END:DAYLIGHT
BEGIN:STANDARD
TZOFFSETFROM:+0100
TZOFFSETTO:+0000
TZNAME:GMT
DTSTART:20171029T010000
END:STANDARD
BEGIN:DAYLIGHT
TZOFFSETFROM:+0000
TZOFFSETTO:+0100
TZNAME:BST
DTSTART:20180325T010000
END:DAYLIGHT
BEGIN:STANDARD
TZOFFSETFROM:+0100
TZOFFSETTO:+0000
TZNAME:GMT
DTSTART:20181028T010000
END:STANDARD
END:VTIMEZONE
BEGIN:VTIMEZONE
TZID:UTC
BEGIN:STANDARD
TZOFFSETFROM:+0000
TZOFFSETTO:+0000
TZNAME:UTC
DTSTART:20140101T000000
END:STANDARD
END:VTIMEZONE
BEGIN:VEVENT
DTSTART;VALUE=DATE:20240910
DTEND;VALUE=DATE:20240914
DTSTAMP:20260424T015404
CREATED:20231115T154431Z
LAST-MODIFIED:20240722T174022Z
UID:10001048-1725926400-1726271999@leadershipembodiment.com
SUMMARY:Samye Ling Retreat with Tiphani Palmer
DESCRIPTION:Tiphani leads an Intensive Leadership Embodiment Retreat at the Samye Ling Monastery in Scotland. This retreat includes lodging and meals. For the Samye Ling retreat\, we are requiring completion of both a Leadership Embodiment Level 1 and Level 2. For a description of our retreats\, please see our Public Courses page. For more information on Samye Ling\, please see the Visiting Page of their website. \nDates: 10-13 September 2024 \nThe retreat includes meals and three nights lodging. \nCosts: $1\,250 per person for Retreat with 3 nights lodging and meals. (LE Associates\, please contact our office for associate discounted rates.) The retreat cost covers September 10th – 13th lodging and meals (beginning with dinner on the 10th and ending with lunch on the 13th). A USD$250 deposit will hold your spot. This is refundable until July 25\, 2024. The balance is due before August 1st and is not refundable unless the retreat is canceled by either Leadership Embodiment or Samye Ling. Payment can be made by wire transfer or we can send an invoice via our credit card processor (Square). \nIf any participants will need extra nights added on to their booking (before or after the retreat)\, they can contact Samye Ling at this email address: bookings@samyeling.org to make those arrangements. \nYou’ll need to provide Samye Ling with the following information to make additional night(s) booking:\n– your date of arrival and departure (outside of the retreat dates)\n– the full name of each guest on the booking\n– your contact number\n– what time you aim to arrive at reception (check in is from 3.30pm and supper is served at 6pm) \nFor any extra lodging and meals\, you will book and pay Samye Ling directly.  \n \nEurope
URL:https://leadershipembodiment.com/event/samye-ling-retreat-with-tiphani-palmer/
LOCATION:Samye Ling\, Scotland\, United Kingdom
CATEGORIES:Europe
ORGANIZER;CN="LE Office":MAILTO:office@leadershipembodiment.com
END:VEVENT
BEGIN:VEVENT
DTSTART;VALUE=DATE:20240412
DTEND;VALUE=DATE:20240415
DTSTAMP:20260424T015404
CREATED:20240102T165900Z
LAST-MODIFIED:20240102T165900Z
UID:10001056-1712880000-1713139199@leadershipembodiment.com
SUMMARY:Leadership Embodiment Level 1 with Amanda Ridings
DESCRIPTION:Join Amanda for a Leadership Embodiment Level 1 at Samye Ling in Scotland. For a description of a Level 1\, please see our Public Courses page. For more information on this course and Samye Ling\, please CLICK HERE. \nDates: 12 – 14 April 2024 \n \nEurope
URL:https://leadershipembodiment.com/event/leadership-embodiment-level-1-with-amanda-ridings-2/
LOCATION:Samye Ling\, Scotland\, United Kingdom
CATEGORIES:Europe
ORGANIZER;CN="Amanda Ridings":MAILTO:Amanda@originate.org.uk
END:VEVENT
BEGIN:VEVENT
DTSTART;VALUE=DATE:20231027
DTEND;VALUE=DATE:20231030
DTSTAMP:20260424T015404
CREATED:20230310T202945Z
LAST-MODIFIED:20230316T145735Z
UID:10001005-1698364800-1698623999@leadershipembodiment.com
SUMMARY:Level 2 with Amanda Ridings
DESCRIPTION:Join Amanda Ridings for a Level 2 at Samye Ling\, Scotland. For a description of a Level 2\, please see our Public Courses page. You must have completed a Level 1 before taking a Level 2. For more information or to register\, please CLICK HERE. \nBegins: 7:00PM on 27 October 2023\nEnds: 4:00PM on 29 October 2023 \n \nEurope
URL:https://leadershipembodiment.com/event/level-2-with-amanda-ridings-2/
LOCATION:Samye Ling\, Scotland\, United Kingdom
CATEGORIES:Europe
ORGANIZER;CN="Amanda Ridings":MAILTO:Amanda@originate.org.uk
END:VEVENT
BEGIN:VEVENT
DTSTART;VALUE=DATE:20230512
DTEND;VALUE=DATE:20230515
DTSTAMP:20260424T015404
CREATED:20230103T174954Z
LAST-MODIFIED:20230125T181028Z
UID:10000964-1683849600-1684108799@leadershipembodiment.com
SUMMARY:Level 1 with Amanda Ridings
DESCRIPTION:Join Amanda at Samye Ling\, Scotland for a Level 1 course. For a description of a Level 1\, please see our Public Courses Page.  \nDates: 12 May 2023 (beginning at 7:00PM) until 14 May 2023 (ending 4:00PM) \nFor more information or to register\, please CLICK HERE. \n \nEurope
URL:https://leadershipembodiment.com/event/level-1-with-amanda-ridings-3/
LOCATION:Samye Ling\, Scotland\, United Kingdom
CATEGORIES:Europe
ORGANIZER;CN="Amanda Ridings":MAILTO:Amanda@originate.org.uk
END:VEVENT
BEGIN:VEVENT
DTSTART;VALUE=DATE:20221111
DTEND;VALUE=DATE:20221114
DTSTAMP:20260424T015404
CREATED:20220913T144440Z
LAST-MODIFIED:20220913T144440Z
UID:10000806-1668124800-1668383999@leadershipembodiment.com
SUMMARY:Level 1 with Amanda Ridings
DESCRIPTION:Join Amanda for a Level 1 at Samye Ling\, Scotland. For a description of a Level 1\, please see our courses page.  \nFor more information: https://www.samyeling.org/courses/other/view/leadership-embodiment-level-1 \nDates: 11 November to 13 November 2022\nTimes: 7:00 PM 11 November to 4:00pm 13 November\, 2022
URL:https://leadershipembodiment.com/event/level-1-with-amanda-ridings/
LOCATION:Samye Ling\, Scotland\, United Kingdom
CATEGORIES:Europe
ORGANIZER;CN="Amanda Ridings":MAILTO:Amanda@originate.org.uk
END:VEVENT
BEGIN:VEVENT
DTSTART;VALUE=DATE:20220802
DTEND;VALUE=DATE:20220806
DTSTAMP:20260424T015404
CREATED:20220419T174802Z
LAST-MODIFIED:20220419T174802Z
UID:10000789-1659398400-1659743999@leadershipembodiment.com
SUMMARY:Samye Ling Retreat - Almost Full!
DESCRIPTION:LE RETREAT WITH WENDY PALMER AT SAMYE LING SCOTLAND\nPrerequisites are completion of Leadership Embodiment Levels One and Two\, or completion of a Level 1 and a previous LE Retreat.\nThe retreat begins August 2nd at 4 pm (16:00). Please arrive no later than 3pm (15:00) to settle in.  The retreat ends at noon (12:00) on August 5th.  A complete schedule and handouts will be emailed to participants about one week before it begins. \nSamye Ling is holding single rooms from the evening of August 1st and through the night of August 5th in order to accommodate any participants who would like to arrive early (Arrive August 1) and/or stay through the night of the 5th (Depart August 6th). The full cost for the retreat (August 2-5) is $1\,075.  (There is a discounted rate for associates\, please contact us.). These costs include the retreat activities\, lodging and vegetarian meals from 3:00pm (15:00) August 2nd through Noon (12:00) August 5th.  \nAt the current exchange rate\, adding additional lodging and meals on either end of the retreat would be about US$82 per day.  You should be able to stay in the same room for the additional day(s). The extra days will be paid via Leadership Embodiment and added to the cost of the retreat. Please let us know if you plan to arrive August 1st and/or depart August 6th so that your additional lodging and meals are booked.  \nWe request a deposit of US$250 to hold a spot\, which is refundable until June 30th.  The balance (plus any additional days) is due by July 1st and is not refundable unless we have someone to take your place.  Of course\, everything is refundable in the event the retreat is cancelled by Leadership Embodiment or Samye Ling or if pandemic-related travel restrictions/health emergencies prevent your attendance. \nPayment options are:\nRequest a Square (our credit card processor) invoice be sent via email\nWire transfer (please request bank information) \nFeel free to contact me at office@leadershipembodiment.com with any other questions.
URL:https://leadershipembodiment.com/event/possible-samye-ling-retreat/
LOCATION:Samye Ling\, Scotland\, United Kingdom
CATEGORIES:Europe
ORGANIZER;CN="LE Office":MAILTO:office@leadershipembodiment.com
END:VEVENT
BEGIN:VEVENT
DTSTART;VALUE=DATE:20200914
DTEND;VALUE=DATE:20200918
DTSTAMP:20260424T015404
CREATED:20190816T144327Z
LAST-MODIFIED:20190816T144327Z
UID:10000339-1600041600-1600387199@leadershipembodiment.com
SUMMARY:CANCELLED - Samye Ling Intensive Retreat with Wendy Palmer - CANCELLED
DESCRIPTION:DUE TO TRAVEL RESTRICTIONS FROM THE US\, THIS RETREAT HAS BEEN CANCELLED. \nJoin Wendy Palmer for a 4-day Intensive Retreat at Samye Ling in Scotland. For a description of a retreat\, please see our courses page. You must have completed a Level 1 and Level 2 before attending a retreat. Included in the retreat cost of $1\,025 is 3 nights lodging and meals. This retreat is limited to 14 participants. A $250 deposit is requested to hold a spot\, which is refundable if cancelled before August 15\, 2020. \nAll retreat payments will be refunded via the original payment method. \nDates: 14 – 17 September 2020\nTimes: TBA
URL:https://leadershipembodiment.com/event/samye-ling-intensive-retreat-with-wendy-palmer-2/
LOCATION:Samye Ling\, Scotland\, United Kingdom
CATEGORIES:Europe
ATTACH;FMTTYPE=:
ORGANIZER;CN="Lynda Ray":MAILTO:office@leadershipembodiment.com
END:VEVENT
BEGIN:VEVENT
DTSTART;VALUE=DATE:20190702
DTEND;VALUE=DATE:20190706
DTSTAMP:20260424T015404
CREATED:20181019T152626Z
LAST-MODIFIED:20181019T152626Z
UID:10000258-1562025600-1562371199@leadershipembodiment.com
SUMMARY:Samye Ling Retreat with Wendy Palmer
DESCRIPTION:Wendy Palmer will be leading a 4-Day Intensive Leadership Embodiment Retreat at Samye Ling in Scotland.  You must have completed a Level 1 and Level 2 before attending a retreat.  For more information and to register\, please click here.  \nThe price of £795 includes accommodation and meals. Accommodations are reserved within 2 blocks of the monastery\, and rooms are allocated on a first-come\, first-served basis. \nDates: 2-5 July 2019
URL:https://leadershipembodiment.com/event/samye-ling-retreat-with-wendy-palmer-2/
LOCATION:Samye Ling\, Scotland\, United Kingdom
CATEGORIES:Europe
END:VEVENT
BEGIN:VEVENT
DTSTART;VALUE=DATE:20180703
DTEND;VALUE=DATE:20180707
DTSTAMP:20260424T015404
CREATED:20171009T164242Z
LAST-MODIFIED:20171009T164242Z
UID:10000666-1530576000-1530921599@leadershipembodiment.com
SUMMARY:Samye Ling Intensive Retreat with Wendy Palmer
DESCRIPTION:Join Wendy Palmer for this very special intensive retreat at Samye Ling in Scotland. You must have completed at least a Level 1 before taking a retreat. For a description of a retreat\, please see our courses page. This popular retreat is normally held in the spring. This year the retreat is being held in mid-summer.   \nDates: 3-6 July 2018
URL:https://leadershipembodiment.com/event/samye-ling-intensive-retreat-with-wendy-palmer/
LOCATION:Samye Ling\, Scotland\, United Kingdom
CATEGORIES:Europe
ATTACH;FMTTYPE=:
END:VEVENT
BEGIN:VEVENT
DTSTART;VALUE=DATE:20170523
DTEND;VALUE=DATE:20170527
DTSTAMP:20260424T015404
CREATED:20161129T125210Z
LAST-MODIFIED:20161129T125210Z
UID:10000600-1495497600-1495843199@leadershipembodiment.com
SUMMARY:Samye Ling Intensive Retreat\, May 2017
DESCRIPTION:The next European Leadership Embodiment Retreat will be held at the beautiful Samye Ling Monastery in Scotland\, in late May 2017. It will be led by Wendy Palmer\, the founder of Leadership Embodiment. \nAt retreats\, the LE community comes together for more intensive practice of the LE work. It’s a deeper dive that involves extended 30 minute sitting meditation and longer periods of practicing LE exercises\, deepening our practice and our understanding of our own patterns. Therefore\, participants are required to have completed a Fundamentals course before joining a retreat. \n \nSamye Ling is the Tibetan Buddhist monastery founded by Akong Rinpoche and Chogyam Trungpa Rinpoche in 1967\, providing a rich and inspiring background to the practices and learning of leadership\, and enhancing a keen awareness that the LE practices are rooted in centuries of practice and stress-testing. \nFor further information\, please visit the Centre for Embodied Wisdom \nYou must have completed a Leadership Embodiment Level 1 to register for a retreat.
URL:https://leadershipembodiment.com/event/samye-ling-intensive-retreat-may-2017/
LOCATION:Samye Ling\, Scotland\, United Kingdom
CATEGORIES:Europe
ATTACH;FMTTYPE=:
END:VEVENT
BEGIN:VEVENT
DTSTART;VALUE=DATE:20160531
DTEND;VALUE=DATE:20160604
DTSTAMP:20260424T015404
CREATED:20151113T101619Z
LAST-MODIFIED:20151113T101619Z
UID:10000546-1464652800-1464998399@leadershipembodiment.com
SUMMARY:Samye Ling Intensive Retreat\, May 2016
DESCRIPTION:The next European Leadership Embodiment Retreat will be held at the beautiful Samye Ling Monastery in Scotland. It will be led by Wendy Palmer\, the founder of Leadership Embodiment. \nAt retreats\, the LE community comes together for more intensive practice of the LE work. It’s a deeper dive that involves extended 30 minute sitting meditation and longer periods of practicing LE exercises\, deepening our practice and our understanding of our own patterns. Therefore\, participants are required to have completed a Fundamentals course before joining a retreat. \n \nSamye Ling is the Tibetan Buddhist monastery founded by Akong Rinpoche and Chogyam Trungpa Rinpoche in 1967\, providing a rich and inspiring background to the practices and learning of leadership\, and enhancing a keen awareness that the LE practices are rooted in centuries of practice and stress-testing. \nFor further information\, please visit the Centre for Embodied Wisdom \nYou must have completed a Leadership Embodiment Level 1 to register for a retreat.
URL:https://leadershipembodiment.com/event/samye-ling-intensive-retreat-may-2016/
LOCATION:Samye Ling\, Scotland\, United Kingdom
CATEGORIES:Europe
ATTACH;FMTTYPE=:
END:VEVENT
BEGIN:VEVENT
DTSTART;VALUE=DATE:20150526
DTEND;VALUE=DATE:20150530
DTSTAMP:20260424T015404
CREATED:20141215T235558Z
LAST-MODIFIED:20141215T235558Z
UID:10000862-1432598400-1432943999@leadershipembodiment.com
SUMMARY:Samye Ling Intensive Retreat with Wendy Palmer
DESCRIPTION:Wendy Palmer will once again lead a 4-day retreat at the beautiful Samye Ling Monastery in Scotland. It will be led by Wendy Palmer\, the founder of Leadership Embodiment. \nAt retreats\, the LE community comes together for more intensive practice of the LE work. It’s a deeper dive that involves extended 30 minute sitting meditation and longer periods of practicing LE exercises\, deepening our practice and our understanding of our own patterns. Therefore\, participants are required to have completed a Fundamentals Level 1 course before joining a retreat. Please note that participant size is limited and it is suggested that you reserve space early for this special retreat.  Please visit the Centre for Embodied Wisdom for more information.
URL:https://leadershipembodiment.com/event/samye-ling-retreat-with-wendy-palmer/
LOCATION:Samye Ling\, Scotland\, United Kingdom
CATEGORIES:Europe
END:VEVENT
END:VCALENDAR