BEGIN:VCALENDAR
VERSION:2.0
PRODID:-//Leadership Embodiment - ECPv6.15.20//NONSGML v1.0//EN
CALSCALE:GREGORIAN
METHOD:PUBLISH
X-ORIGINAL-URL:https://leadershipembodiment.com
X-WR-CALDESC:Events for Leadership Embodiment
REFRESH-INTERVAL;VALUE=DURATION:PT1H
X-Robots-Tag:noindex
X-PUBLISHED-TTL:PT1H
BEGIN:VTIMEZONE
TZID:America/Los_Angeles
BEGIN:DAYLIGHT
TZOFFSETFROM:-0800
TZOFFSETTO:-0700
TZNAME:PDT
DTSTART:20160313T100000
END:DAYLIGHT
BEGIN:STANDARD
TZOFFSETFROM:-0700
TZOFFSETTO:-0800
TZNAME:PST
DTSTART:20161106T090000
END:STANDARD
BEGIN:DAYLIGHT
TZOFFSETFROM:-0800
TZOFFSETTO:-0700
TZNAME:PDT
DTSTART:20170312T100000
END:DAYLIGHT
BEGIN:STANDARD
TZOFFSETFROM:-0700
TZOFFSETTO:-0800
TZNAME:PST
DTSTART:20171105T090000
END:STANDARD
BEGIN:DAYLIGHT
TZOFFSETFROM:-0800
TZOFFSETTO:-0700
TZNAME:PDT
DTSTART:20180311T100000
END:DAYLIGHT
BEGIN:STANDARD
TZOFFSETFROM:-0700
TZOFFSETTO:-0800
TZNAME:PST
DTSTART:20181104T090000
END:STANDARD
END:VTIMEZONE
BEGIN:VEVENT
DTSTART;VALUE=DATE:20170803
DTEND;VALUE=DATE:20170807
DTSTAMP:20260424T180212
CREATED:20170403T161714Z
LAST-MODIFIED:20170403T161714Z
UID:10000629-1501718400-1502063999@leadershipembodiment.com
SUMMARY:Intensive Retreat with Wendy Palmer
DESCRIPTION:Join Wendy Palmer for a 4-day Intensive Leadership Embodiment Retreat at the Seven Oaks Retreat Center in Madison\, VA.  \nFor those that have attended a LE Level 1 Fundamentals Course or have completed LE L1 & L2\, we invite you to attend this Intensive Leadership Embodiment Retreat. Retreats offer participants a chance to deepen their experience of the LE model with more intensive practice.  \nFor more information\, please click here.
URL:https://leadershipembodiment.com/event/intensive-retreat-with-wendy-palmer-7/
LOCATION:Seven Oaks Retreat Center\, 403 Pathwork Way\, Madison\, VA\, United States
CATEGORIES:North America
ATTACH;FMTTYPE=:
ORGANIZER;CN="Ina Gjikondi":MAILTO:gjikondi (at) gwu.edu
GEO:38.29711;-78.3579802
X-APPLE-STRUCTURED-LOCATION;VALUE=URI;X-ADDRESS=Seven Oaks Retreat Center 403 Pathwork Way Madison VA United States;X-APPLE-RADIUS=500;X-TITLE=403 Pathwork Way:geo:-78.3579802,38.29711
END:VEVENT
END:VCALENDAR