BEGIN:VCALENDAR
VERSION:2.0
PRODID:-//Leadership Embodiment - ECPv6.15.20//NONSGML v1.0//EN
CALSCALE:GREGORIAN
METHOD:PUBLISH
X-ORIGINAL-URL:https://leadershipembodiment.com
X-WR-CALDESC:Events for Leadership Embodiment
REFRESH-INTERVAL;VALUE=DURATION:PT1H
X-Robots-Tag:noindex
X-PUBLISHED-TTL:PT1H
BEGIN:VTIMEZONE
TZID:America/Los_Angeles
BEGIN:DAYLIGHT
TZOFFSETFROM:-0800
TZOFFSETTO:-0700
TZNAME:PDT
DTSTART:20150308T100000
END:DAYLIGHT
BEGIN:STANDARD
TZOFFSETFROM:-0700
TZOFFSETTO:-0800
TZNAME:PST
DTSTART:20151101T090000
END:STANDARD
BEGIN:DAYLIGHT
TZOFFSETFROM:-0800
TZOFFSETTO:-0700
TZNAME:PDT
DTSTART:20160313T100000
END:DAYLIGHT
BEGIN:STANDARD
TZOFFSETFROM:-0700
TZOFFSETTO:-0800
TZNAME:PST
DTSTART:20161106T090000
END:STANDARD
BEGIN:DAYLIGHT
TZOFFSETFROM:-0800
TZOFFSETTO:-0700
TZNAME:PDT
DTSTART:20170312T100000
END:DAYLIGHT
BEGIN:STANDARD
TZOFFSETFROM:-0700
TZOFFSETTO:-0800
TZNAME:PST
DTSTART:20171105T090000
END:STANDARD
BEGIN:DAYLIGHT
TZOFFSETFROM:-0800
TZOFFSETTO:-0700
TZNAME:PDT
DTSTART:20180311T100000
END:DAYLIGHT
BEGIN:STANDARD
TZOFFSETFROM:-0700
TZOFFSETTO:-0800
TZNAME:PST
DTSTART:20181104T090000
END:STANDARD
BEGIN:DAYLIGHT
TZOFFSETFROM:-0800
TZOFFSETTO:-0700
TZNAME:PDT
DTSTART:20190310T100000
END:DAYLIGHT
BEGIN:STANDARD
TZOFFSETFROM:-0700
TZOFFSETTO:-0800
TZNAME:PST
DTSTART:20191103T090000
END:STANDARD
BEGIN:DAYLIGHT
TZOFFSETFROM:-0800
TZOFFSETTO:-0700
TZNAME:PDT
DTSTART:20200308T100000
END:DAYLIGHT
BEGIN:STANDARD
TZOFFSETFROM:-0700
TZOFFSETTO:-0800
TZNAME:PST
DTSTART:20201101T090000
END:STANDARD
BEGIN:DAYLIGHT
TZOFFSETFROM:-0800
TZOFFSETTO:-0700
TZNAME:PDT
DTSTART:20210314T100000
END:DAYLIGHT
BEGIN:STANDARD
TZOFFSETFROM:-0700
TZOFFSETTO:-0800
TZNAME:PST
DTSTART:20211107T090000
END:STANDARD
END:VTIMEZONE
BEGIN:VEVENT
DTSTART;VALUE=DATE:20200424
DTEND;VALUE=DATE:20200426
DTSTAMP:20260424T175001
CREATED:20200129T181629Z
LAST-MODIFIED:20200129T181629Z
UID:10000384-1587686400-1587859199@leadershipembodiment.com
SUMMARY:Level 1 with Ched Lee
DESCRIPTION:Join Ched for a 2-Day Level 1 in Shanghai. For a description of a Level 1\, please see our courses page.  \nDates: 24-25 April 2020
URL:https://leadershipembodiment.com/event/level-1-with-ched-lee-17/
LOCATION:Shanghai Venue\, Shanghai\, China
CATEGORIES:Asia
ATTACH;FMTTYPE=:
ORGANIZER;CN="Ched Lee":MAILTO:ched@chedlee.com
GEO:31.230416;121.473701
END:VEVENT
BEGIN:VEVENT
DTSTART;VALUE=DATE:20170704
DTEND;VALUE=DATE:20170706
DTSTAMP:20260424T175001
CREATED:20170105T152800Z
LAST-MODIFIED:20170105T152800Z
UID:10000613-1499126400-1499299199@leadershipembodiment.com
SUMMARY:Level 2 with Wendy Palmer in Shanghai
DESCRIPTION:Join Wendy Palmer for a 2-Day Leadership Embodiment Level 2 course in Shanghai. From the Leadership Embodiment Asia organizers: \nCome to immerse yourself with essential embodied learning and tools for the leader\, mentor and coach. Our 2017 programs in Asia offer the learning from Wendy herself with the full spectrum of Leadership Embodiment classes. Complete these as a full suite of leadership development training. For deeper learning – they serve as the pre-requisites to ready you for LE Coach Training as soon as 2018 – in Asia. \nThis is an exciting learning ground for you who want to work more skillfully with inter-cultural and diasporic environments. They shape how we and those around us show up in work and life – and how we get into trouble. With our regional cultural\, ethnic\, philosophical and spiritual diversity\, LE provides a structure for learning that includes and evolves with these aspects. As we train our presence we see more of how diverse and subtle are the challenges we each bring in our bodies – and how to go beyond them.”\n \nFor more information\, please see the Leadership Embodiment Asia website.
URL:https://leadershipembodiment.com/event/level-2-with-wendy-palmer-in-shanghai/
LOCATION:Shanghai Venue\, Shanghai\, China
CATEGORIES:Asia
ATTACH;FMTTYPE=:
GEO:31.230416;121.473701
END:VEVENT
BEGIN:VEVENT
DTSTART;VALUE=DATE:20170630
DTEND;VALUE=DATE:20170702
DTSTAMP:20260424T175001
CREATED:20170105T152513Z
LAST-MODIFIED:20170105T152513Z
UID:10000612-1498780800-1498953599@leadershipembodiment.com
SUMMARY:Level 1 with Wendy Palmer in Shanghai
DESCRIPTION:Join Wendy Palmer for a 2-Day Leadership Embodiment Level 1 course in Shanghai. From the Leadership Embodiment Asia organizers: \nCome to immerse yourself with essential embodied learning and tools for the leader\, mentor and coach. Our 2017 programs in Asia offer the learning from Wendy herself with the full spectrum of Leadership Embodiment classes. Complete these as a full suite of leadership development training. For deeper learning – they serve as the pre-requisites to ready you for LE Coach Training as soon as 2018 – in Asia. \nThis is an exciting learning ground for you who want to work more skillfully with inter-cultural and diasporic environments. They shape how we and those around us show up in work and life – and how we get into trouble. With our regional cultural\, ethnic\, philosophical and spiritual diversity\, LE provides a structure for learning that includes and evolves with these aspects. As we train our presence we see more of how diverse and subtle are the challenges we each bring in our bodies – and how to go beyond them.”\n \nFor more information\, please see the Leadership Embodiment Asia website.
URL:https://leadershipembodiment.com/event/level-1-with-wendy-palmer-in-shanghai-2/
LOCATION:Shanghai Venue\, Shanghai\, China
CATEGORIES:Asia
ATTACH;FMTTYPE=:
GEO:31.230416;121.473701
END:VEVENT
BEGIN:VEVENT
DTSTART;VALUE=DATE:20170114
DTEND;VALUE=DATE:20170116
DTSTAMP:20260424T175001
CREATED:20161103T153203Z
LAST-MODIFIED:20161103T153203Z
UID:10000592-1484352000-1484524799@leadershipembodiment.com
SUMMARY:Level 1 with Wendy Palmer in Shanghai
DESCRIPTION:Join Wendy Palmer for a 2-Day Leadership Embodiment Level 1 course in Shanghai. From the Leadership Embodiment Asia organizers: \nCome to immerse yourself with essential embodied learning and tools for the leader\, mentor and coach. Our 2017 programs in Asia offer the learning from Wendy herself with the full spectrum of Leadership Embodiment classes. Complete these as a full suite of leadership development training. For deeper learning – they serve as the pre-requisites to ready you for LE Coach Training as soon as 2018 – in Asia. \nThis is an exciting learning ground for you who want to work more skillfully with inter-cultural and diasporic environments. They shape how we and those around us show up in work and life – and how we get into trouble. With our regional cultural\, ethnic\, philosophical and spiritual diversity\, LE provides a structure for learning that includes and evolves with these aspects. As we train our presence we see more of how diverse and subtle are the challenges we each bring in our bodies – and how to go beyond them.”\n \nFor more information\, please see the Leadership Embodiment Asia website.
URL:https://leadershipembodiment.com/event/level-1-with-wendy-palmer-4/
LOCATION:Shanghai Venue\, Shanghai\, China
CATEGORIES:Asia
ATTACH;FMTTYPE=:
ORGANIZER;CN="Ched Lee":MAILTO:ched@chedlee.com
GEO:31.230416;121.473701
END:VEVENT
BEGIN:VEVENT
DTSTART;VALUE=DATE:20160712
DTEND;VALUE=DATE:20160714
DTSTAMP:20260424T175001
CREATED:20160331T230137Z
LAST-MODIFIED:20160331T230137Z
UID:10000555-1468281600-1468454399@leadershipembodiment.com
SUMMARY:Level 1 with Wendy Palmer in Shanghai
DESCRIPTION:Join Wendy Palmer for a 2-day Level 1 workshop in Shanghai\, China. For a description of our Level 1\, please see our courses page. \nDates: July 12th & 13th\, 2016
URL:https://leadershipembodiment.com/event/level-1-with-wendy-palmer-in-shanghai/
LOCATION:Shanghai Venue\, Shanghai\, China
CATEGORIES:Asia
ATTACH;FMTTYPE=:
GEO:31.230416;121.473701
END:VEVENT
END:VCALENDAR