BEGIN:VCALENDAR
VERSION:2.0
PRODID:-//Leadership Embodiment - ECPv6.15.20//NONSGML v1.0//EN
CALSCALE:GREGORIAN
METHOD:PUBLISH
X-WR-CALNAME:Leadership Embodiment
X-ORIGINAL-URL:https://leadershipembodiment.com
X-WR-CALDESC:Events for Leadership Embodiment
REFRESH-INTERVAL;VALUE=DURATION:PT1H
X-Robots-Tag:noindex
X-PUBLISHED-TTL:PT1H
BEGIN:VTIMEZONE
TZID:America/Los_Angeles
BEGIN:DAYLIGHT
TZOFFSETFROM:-0800
TZOFFSETTO:-0700
TZNAME:PDT
DTSTART:20170312T100000
END:DAYLIGHT
BEGIN:STANDARD
TZOFFSETFROM:-0700
TZOFFSETTO:-0800
TZNAME:PST
DTSTART:20171105T090000
END:STANDARD
BEGIN:DAYLIGHT
TZOFFSETFROM:-0800
TZOFFSETTO:-0700
TZNAME:PDT
DTSTART:20180311T100000
END:DAYLIGHT
BEGIN:STANDARD
TZOFFSETFROM:-0700
TZOFFSETTO:-0800
TZNAME:PST
DTSTART:20181104T090000
END:STANDARD
BEGIN:DAYLIGHT
TZOFFSETFROM:-0800
TZOFFSETTO:-0700
TZNAME:PDT
DTSTART:20190310T100000
END:DAYLIGHT
BEGIN:STANDARD
TZOFFSETFROM:-0700
TZOFFSETTO:-0800
TZNAME:PST
DTSTART:20191103T090000
END:STANDARD
END:VTIMEZONE
BEGIN:VEVENT
DTSTART;VALUE=DATE:20181020
DTEND;VALUE=DATE:20181022
DTSTAMP:20260423T235943
CREATED:20180511T220028Z
LAST-MODIFIED:20180511T220028Z
UID:10000713-1539993600-1540166399@leadershipembodiment.com
SUMMARY:Level 1 with Beth Follini
DESCRIPTION:Join Beth Follini for a 2-Day Level 1 in London\, UK.  For a description of a Level 1\, please see our courses page. For more information or to register\, please click here.   \nDates: 20-21 October 2018\n10:00AM – 4:00PM
URL:https://leadershipembodiment.com/event/level-1-with-beth-follini-2/
LOCATION:St. Edmunds Church\, Lombard Street\, London\, United Kingdom
CATEGORIES:Europe
ATTACH;FMTTYPE=:
ORGANIZER;CN="Beth Follini":MAILTO:beth@ticktockcoaching.co.uk
GEO:51.512647;-0.0871406
X-APPLE-STRUCTURED-LOCATION;VALUE=URI;X-ADDRESS=St. Edmunds Church Lombard Street London United Kingdom;X-APPLE-RADIUS=500;X-TITLE=Lombard Street:geo:-0.0871406,51.512647
END:VEVENT
END:VCALENDAR