BEGIN:VCALENDAR
VERSION:2.0
PRODID:-//Leadership Embodiment - ECPv6.15.20//NONSGML v1.0//EN
CALSCALE:GREGORIAN
METHOD:PUBLISH
X-ORIGINAL-URL:https://leadershipembodiment.com
X-WR-CALDESC:Events for Leadership Embodiment
REFRESH-INTERVAL;VALUE=DURATION:PT1H
X-Robots-Tag:noindex
X-PUBLISHED-TTL:PT1H
BEGIN:VTIMEZONE
TZID:America/Los_Angeles
BEGIN:DAYLIGHT
TZOFFSETFROM:-0800
TZOFFSETTO:-0700
TZNAME:PDT
DTSTART:20150308T100000
END:DAYLIGHT
BEGIN:STANDARD
TZOFFSETFROM:-0700
TZOFFSETTO:-0800
TZNAME:PST
DTSTART:20151101T090000
END:STANDARD
BEGIN:DAYLIGHT
TZOFFSETFROM:-0800
TZOFFSETTO:-0700
TZNAME:PDT
DTSTART:20160313T100000
END:DAYLIGHT
BEGIN:STANDARD
TZOFFSETFROM:-0700
TZOFFSETTO:-0800
TZNAME:PST
DTSTART:20161106T090000
END:STANDARD
BEGIN:DAYLIGHT
TZOFFSETFROM:-0800
TZOFFSETTO:-0700
TZNAME:PDT
DTSTART:20170312T100000
END:DAYLIGHT
BEGIN:STANDARD
TZOFFSETFROM:-0700
TZOFFSETTO:-0800
TZNAME:PST
DTSTART:20171105T090000
END:STANDARD
BEGIN:DAYLIGHT
TZOFFSETFROM:-0800
TZOFFSETTO:-0700
TZNAME:PDT
DTSTART:20180311T100000
END:DAYLIGHT
BEGIN:STANDARD
TZOFFSETFROM:-0700
TZOFFSETTO:-0800
TZNAME:PST
DTSTART:20181104T090000
END:STANDARD
BEGIN:DAYLIGHT
TZOFFSETFROM:-0800
TZOFFSETTO:-0700
TZNAME:PDT
DTSTART:20190310T100000
END:DAYLIGHT
BEGIN:STANDARD
TZOFFSETFROM:-0700
TZOFFSETTO:-0800
TZNAME:PST
DTSTART:20191103T090000
END:STANDARD
BEGIN:DAYLIGHT
TZOFFSETFROM:-0800
TZOFFSETTO:-0700
TZNAME:PDT
DTSTART:20200308T100000
END:DAYLIGHT
BEGIN:STANDARD
TZOFFSETFROM:-0700
TZOFFSETTO:-0800
TZNAME:PST
DTSTART:20201101T090000
END:STANDARD
BEGIN:DAYLIGHT
TZOFFSETFROM:-0800
TZOFFSETTO:-0700
TZNAME:PDT
DTSTART:20210314T100000
END:DAYLIGHT
BEGIN:STANDARD
TZOFFSETFROM:-0700
TZOFFSETTO:-0800
TZNAME:PST
DTSTART:20211107T090000
END:STANDARD
END:VTIMEZONE
BEGIN:VEVENT
DTSTART;VALUE=DATE:20200919
DTEND;VALUE=DATE:20200921
DTSTAMP:20260424T025932
CREATED:20200117T224431Z
LAST-MODIFIED:20200117T224431Z
UID:10000379-1600473600-1600646399@leadershipembodiment.com
SUMMARY:Body Intelligence for Business Leaders with Wendy Palmer
DESCRIPTION:Wendy Palmer presents a two-day course\, Body Intelligence for Business Leaders. To register and for more information\, please click here.  \nRomania LE September program is still hopeful to be held in person. If the in person session is not able to go forward\, we will be hosting an online offering\, details to be announced. \nDates: 19-20 September 2020
URL:https://leadershipembodiment.com/event/body-intelligence-for-business-leaders-with-wendy-palmer/
LOCATION:TBD\, Bucharest\, Romania
CATEGORIES:Europe
ORGANIZER;CN="Best People In Town":MAILTO:NOW@bestpeopleintown.com
GEO:15.2993265;74.123996
END:VEVENT
BEGIN:VEVENT
DTSTART;VALUE=DATE:20160413
DTEND;VALUE=DATE:20160418
DTSTAMP:20260424T025932
CREATED:20151108T225101Z
LAST-MODIFIED:20151108T225101Z
UID:10000543-1460505600-1460937599@leadershipembodiment.com
SUMMARY:Intensive Retreat with Wendy Palmer in Goa
DESCRIPTION:Join Wendy Palmer for an intensive retreat in Goa\, India.  This retreat includes 4 nights of accommodations and all meals. You must have completed at least a Level 1 to attend a retreat. (Wendy Palmer is leading a Level 1 in Goa on April 9th & 10th.)  For a description of a retreat\, please see our courses page.
URL:https://leadershipembodiment.com/event/intensive-retreat-with-wendy-palmer-in-goa/
LOCATION:TBD\, Bucharest\, Romania
CATEGORIES:Asia
ATTACH;FMTTYPE=:
ORGANIZER;CN="Shilpa Limsay":MAILTO:shilpalimsay@gmail.com
GEO:15.2993265;74.123996
END:VEVENT
BEGIN:VEVENT
DTSTART;VALUE=DATE:20160409
DTEND;VALUE=DATE:20160411
DTSTAMP:20260424T025932
CREATED:20151108T224455Z
LAST-MODIFIED:20151108T224455Z
UID:10000542-1460160000-1460332799@leadershipembodiment.com
SUMMARY:Level 1 with Wendy Palmer in Goa
DESCRIPTION:Join Wendy Palmer in beautiful Goa India for a Level 1 course.  A Level 1 is required to attend the retreat in Goa on April 13th – 17th.  For full descriptions of Level 1\, please see our courses page. \n \nDates: April 9th & 10th\, 2016
URL:https://leadershipembodiment.com/event/level-1-with-wendy-palmer-in-goa/
LOCATION:TBD\, Bucharest\, Romania
CATEGORIES:Asia
ATTACH;FMTTYPE=:
ORGANIZER;CN="Shilpa Limsay":MAILTO:shilpalimsay@gmail.com
GEO:15.2993265;74.123996
END:VEVENT
END:VCALENDAR