BEGIN:VCALENDAR
VERSION:2.0
PRODID:-//Leadership Embodiment - ECPv6.15.20//NONSGML v1.0//EN
CALSCALE:GREGORIAN
METHOD:PUBLISH
X-WR-CALNAME:Leadership Embodiment
X-ORIGINAL-URL:https://leadershipembodiment.com
X-WR-CALDESC:Events for Leadership Embodiment
REFRESH-INTERVAL;VALUE=DURATION:PT1H
X-Robots-Tag:noindex
X-PUBLISHED-TTL:PT1H
BEGIN:VTIMEZONE
TZID:America/Los_Angeles
BEGIN:DAYLIGHT
TZOFFSETFROM:-0800
TZOFFSETTO:-0700
TZNAME:PDT
DTSTART:20150308T100000
END:DAYLIGHT
BEGIN:STANDARD
TZOFFSETFROM:-0700
TZOFFSETTO:-0800
TZNAME:PST
DTSTART:20151101T090000
END:STANDARD
BEGIN:DAYLIGHT
TZOFFSETFROM:-0800
TZOFFSETTO:-0700
TZNAME:PDT
DTSTART:20160313T100000
END:DAYLIGHT
BEGIN:STANDARD
TZOFFSETFROM:-0700
TZOFFSETTO:-0800
TZNAME:PST
DTSTART:20161106T090000
END:STANDARD
BEGIN:DAYLIGHT
TZOFFSETFROM:-0800
TZOFFSETTO:-0700
TZNAME:PDT
DTSTART:20170312T100000
END:DAYLIGHT
BEGIN:STANDARD
TZOFFSETFROM:-0700
TZOFFSETTO:-0800
TZNAME:PST
DTSTART:20171105T090000
END:STANDARD
END:VTIMEZONE
BEGIN:VEVENT
DTSTART;VALUE=DATE:20160413
DTEND;VALUE=DATE:20160414
DTSTAMP:20260424T024431
CREATED:20151109T002503Z
LAST-MODIFIED:20151109T002503Z
UID:10000544-1460505600-1460591999@leadershipembodiment.com
SUMMARY:Level 1 with Elizabeth Valentine (6 Wednesdays)
DESCRIPTION:Join Elizabeth Valentine for a Level 1 course taking place on consecutive Wednesday evenings in Cambridge\, MA. For a description of Level 1\, please see our courses page.   \nDates:\nApril 13\, 2016\nApril 20\, 2016\nApril 27\, 2016\nMay 4\, 2016\nMay 11\, 2016\nMay 18\, 2016
URL:https://leadershipembodiment.com/event/level-1-with-elizabeth-valentine-6-wednesdays/
LOCATION:Unnamed Venue\, Cambridge\, MA\, United States
CATEGORIES:North America
ATTACH;FMTTYPE=:
GEO:42.3736158;-71.1097335
END:VEVENT
END:VCALENDAR