BEGIN:VCALENDAR
VERSION:2.0
PRODID:-//Leadership Embodiment - ECPv6.15.20//NONSGML v1.0//EN
CALSCALE:GREGORIAN
METHOD:PUBLISH
X-WR-CALNAME:Leadership Embodiment
X-ORIGINAL-URL:https://leadershipembodiment.com
X-WR-CALDESC:Events for Leadership Embodiment
REFRESH-INTERVAL;VALUE=DURATION:PT1H
X-Robots-Tag:noindex
X-PUBLISHED-TTL:PT1H
BEGIN:VTIMEZONE
TZID:America/Los_Angeles
BEGIN:DAYLIGHT
TZOFFSETFROM:-0800
TZOFFSETTO:-0700
TZNAME:PDT
DTSTART:20150308T100000
END:DAYLIGHT
BEGIN:STANDARD
TZOFFSETFROM:-0700
TZOFFSETTO:-0800
TZNAME:PST
DTSTART:20151101T090000
END:STANDARD
BEGIN:DAYLIGHT
TZOFFSETFROM:-0800
TZOFFSETTO:-0700
TZNAME:PDT
DTSTART:20160313T100000
END:DAYLIGHT
BEGIN:STANDARD
TZOFFSETFROM:-0700
TZOFFSETTO:-0800
TZNAME:PST
DTSTART:20161106T090000
END:STANDARD
BEGIN:DAYLIGHT
TZOFFSETFROM:-0800
TZOFFSETTO:-0700
TZNAME:PDT
DTSTART:20170312T100000
END:DAYLIGHT
BEGIN:STANDARD
TZOFFSETFROM:-0700
TZOFFSETTO:-0800
TZNAME:PST
DTSTART:20171105T090000
END:STANDARD
BEGIN:DAYLIGHT
TZOFFSETFROM:-0800
TZOFFSETTO:-0700
TZNAME:PDT
DTSTART:20180311T100000
END:DAYLIGHT
BEGIN:STANDARD
TZOFFSETFROM:-0700
TZOFFSETTO:-0800
TZNAME:PST
DTSTART:20181104T090000
END:STANDARD
BEGIN:DAYLIGHT
TZOFFSETFROM:-0800
TZOFFSETTO:-0700
TZNAME:PDT
DTSTART:20190310T100000
END:DAYLIGHT
BEGIN:STANDARD
TZOFFSETFROM:-0700
TZOFFSETTO:-0800
TZNAME:PST
DTSTART:20191103T090000
END:STANDARD
BEGIN:DAYLIGHT
TZOFFSETFROM:-0800
TZOFFSETTO:-0700
TZNAME:PDT
DTSTART:20200308T100000
END:DAYLIGHT
BEGIN:STANDARD
TZOFFSETFROM:-0700
TZOFFSETTO:-0800
TZNAME:PST
DTSTART:20201101T090000
END:STANDARD
BEGIN:DAYLIGHT
TZOFFSETFROM:-0800
TZOFFSETTO:-0700
TZNAME:PDT
DTSTART:20210314T100000
END:DAYLIGHT
BEGIN:STANDARD
TZOFFSETFROM:-0700
TZOFFSETTO:-0800
TZNAME:PST
DTSTART:20211107T090000
END:STANDARD
BEGIN:DAYLIGHT
TZOFFSETFROM:-0800
TZOFFSETTO:-0700
TZNAME:PDT
DTSTART:20220313T100000
END:DAYLIGHT
BEGIN:STANDARD
TZOFFSETFROM:-0700
TZOFFSETTO:-0800
TZNAME:PST
DTSTART:20221106T090000
END:STANDARD
BEGIN:DAYLIGHT
TZOFFSETFROM:-0800
TZOFFSETTO:-0700
TZNAME:PDT
DTSTART:20230312T100000
END:DAYLIGHT
BEGIN:STANDARD
TZOFFSETFROM:-0700
TZOFFSETTO:-0800
TZNAME:PST
DTSTART:20231105T090000
END:STANDARD
BEGIN:DAYLIGHT
TZOFFSETFROM:-0800
TZOFFSETTO:-0700
TZNAME:PDT
DTSTART:20240310T100000
END:DAYLIGHT
BEGIN:STANDARD
TZOFFSETFROM:-0700
TZOFFSETTO:-0800
TZNAME:PST
DTSTART:20241103T090000
END:STANDARD
END:VTIMEZONE
BEGIN:VEVENT
DTSTART;VALUE=DATE:20230522
DTEND;VALUE=DATE:20230526
DTSTAMP:20260424T123525
CREATED:20220705T175244Z
LAST-MODIFIED:20230331T142923Z
UID:10000798-1684713600-1685059199@leadershipembodiment.com
SUMMARY:Whidbey Island Retreat with Tiphani Palmer
DESCRIPTION:Join Tiphani Palmer for this very popular retreat in Washington State on Whidbey Island. This retreat is being held in honor of Wendy Palmer. For a description of a Leadership Embodiment retreat\, please see our Public Courses page. Typically\, we require completion of Leadership Embodiment Level One and Level Two courses previous to attending a retreat. However\, for this special occasion\, we are open to considering participants who have only completed a Level 1. The cost is $1\,600 and includes lodging and meals. \nDates: 22 – 25 May 2023 \nPlease contact Lynda at office@leadershipembodiment.com to register. \n \nNorth America
URL:https://leadershipembodiment.com/event/whidbey-island-retreat-with-wendy-palmer/
LOCATION:Whidbey Institute\, Whidbey Island\, WA\, United States
CATEGORIES:North America
ORGANIZER;CN="LE Office":MAILTO:office@leadershipembodiment.com
GEO:47.9982761;-122.4395026
END:VEVENT
BEGIN:VEVENT
DTSTART;VALUE=DATE:20220411
DTEND;VALUE=DATE:20220415
DTSTAMP:20260424T123525
CREATED:20190731T155047Z
LAST-MODIFIED:20190731T155047Z
UID:10000748-1649635200-1649980799@leadershipembodiment.com
SUMMARY:Whidbey Island Intensive Retreat with Wendy Palmer
DESCRIPTION:Join Wendy Palmer for a 4-day retreat at Whidbey Island Institute in Washington. You must have completed a Level 1 and Level 2 before attending a retreat. This retreat is limited in size and includes single room lodging and meals. On premise Covid tests will be administered. Total cost is $1\,175. Please contact our office for more information or to register. \nDates: April 11-14\, 2022
URL:https://leadershipembodiment.com/event/whidbey-island-intensive-retreat-with-wendy-palmer-2/
LOCATION:Whidbey Institute\, Whidbey Island\, WA\, United States
CATEGORIES:North America
ORGANIZER;CN="LE Office":MAILTO:office@leadershipembodiment.com
GEO:47.9982761;-122.4395026
END:VEVENT
BEGIN:VEVENT
DTSTART;VALUE=DATE:20210809
DTEND;VALUE=DATE:20210813
DTSTAMP:20260424T123525
CREATED:20170601T152331Z
LAST-MODIFIED:20170601T152331Z
UID:10000151-1628467200-1628812799@leadershipembodiment.com
SUMMARY:Whidbey Island Intensive Retreat
DESCRIPTION:Join Wendy Palmer for an intensive retreat at the Whidbey Institute in Washington.  Wendy Palmer\, the founder of LE is the lead instructor for all retreats.  \nRetreats are an opportunity to come together with the community for more intensive practice of the LE work. Living together\, the group will take a deep dive using the container of self-inquiry and group support. The retreat intensive involves sitting meditation and LE partner exercises. Wendy will give guided meditation instruction. Paired LE exercises are often practiced in silence with a 25 min meditation before group discussions. You must have completed both a Level 1 and Level 2 course before attending a retreat. \nMeals and single room lodging are included in the retreat cost.  This is a very popular retreat and is limited to 18 participants. It is suggested that you book early to confirm a spot. Please contact our office or the retreat organizer to register. \nDates: August 9 – 12\, 2021
URL:https://leadershipembodiment.com/event/whidbey-island-intensive-retreat/
LOCATION:Whidbey Institute\, Whidbey Island\, WA\, United States
CATEGORIES:North America
ORGANIZER;CN="Marsha Shenk":MAILTO:marsha@ecosystemiq.com
GEO:47.9982761;-122.4395026
END:VEVENT
BEGIN:VEVENT
DTSTART;VALUE=DATE:20170410
DTEND;VALUE=DATE:20170414
DTSTAMP:20260424T123525
CREATED:20160825T202359Z
LAST-MODIFIED:20160825T202359Z
UID:10000586-1491782400-1492127999@leadershipembodiment.com
SUMMARY:Whidbey Island Intensive Retreat with Wendy Palmer
DESCRIPTION:RETREAT FILLED. We are taking wait-list names only at this time. The Montreal Retreat is open.  Join Wendy Palmer for a Leadership Embodiment Intensive Retreat at Whidbey Island Institute north of Seattle\, Washington.  You must have completed at least a Level 1 to participate in a retreat.  For a description of our offerings\, please see our courses page.  Lodging and meals are included. For more information\, please contact the organizer\, Marsha Shenk.    \nDates: April 10-13\, 2017
URL:https://leadershipembodiment.com/event/whidbey-island-intensive-retreat-with-wendy-palmer/
LOCATION:Whidbey Institute\, Whidbey Island\, WA\, United States
CATEGORIES:North America
ATTACH;FMTTYPE=:
ORGANIZER;CN="Marsha Shenk":MAILTO:marsha@ecosystemiq.com
GEO:47.9982761;-122.4395026
END:VEVENT
BEGIN:VEVENT
DTSTART;VALUE=DATE:20160328
DTEND;VALUE=DATE:20160401
DTSTAMP:20260424T123525
CREATED:20151020T183410Z
LAST-MODIFIED:20151020T183410Z
UID:10000523-1459123200-1459468799@leadershipembodiment.com
SUMMARY:Intensive Retreat with Wendy Palmer
DESCRIPTION:Wendy Palmer returns to the Seattle area for another Intensive Leadership Embodiment Retreat at the beautiful Whidbey Island Institute. This 4-day retreat costs $850 and includes accommodations and delicious meals. Please note that you must have completed at least a Level 1 before attending a retreat.
URL:https://leadershipembodiment.com/event/intensive-retreat-with-wendy-palmer/
LOCATION:Whidbey Institute\, Whidbey Island\, WA\, United States
CATEGORIES:North America
GEO:47.9982761;-122.4395026
END:VEVENT
END:VCALENDAR