BEGIN:VCALENDAR
VERSION:2.0
PRODID:-//Leadership Embodiment - ECPv6.15.20//NONSGML v1.0//EN
CALSCALE:GREGORIAN
METHOD:PUBLISH
X-WR-CALNAME:Leadership Embodiment
X-ORIGINAL-URL:https://leadershipembodiment.com
X-WR-CALDESC:Events for Leadership Embodiment
REFRESH-INTERVAL;VALUE=DURATION:PT1H
X-Robots-Tag:noindex
X-PUBLISHED-TTL:PT1H
BEGIN:VTIMEZONE
TZID:UTC
BEGIN:STANDARD
TZOFFSETFROM:+0000
TZOFFSETTO:+0000
TZNAME:UTC
DTSTART:20140101T000000
END:STANDARD
END:VTIMEZONE
BEGIN:VEVENT
DTSTART;VALUE=DATE:20150228
DTEND;VALUE=DATE:20150302
DTSTAMP:20260424T092714
CREATED:20150113T134119Z
LAST-MODIFIED:20150113T134119Z
UID:10000868-1425081600-1425254399@leadershipembodiment.com
SUMMARY:Somatic Intelligence: The Practical Wisdom of the Body-Mind
DESCRIPTION:This two day workshop is an introduction the integrated\, instinctive and intuitive intelligence within us; an exploration of our Soma – the mind\, body\, emotions and spirit in their wholeness. \nThrough various non-strenuous activities and practices you will learn about your habitual patterns of behaving and thinking; cultivating alternatives\, including exploring ways to respond to the incoming pressures of life from a place of “centre” rather than from your judgements and fears. \nWe will work with a selection of the following themes; centering under pressure\, finding balance\, effective leadership and followership\, focusing energy\, aligning body and mind to your outcomes and attuning to oneself and others. \nWe will engage in conversation and simple\, yet profound\, activities to explore: \n\nDeveloping a personal “centering” practice\nThe wisdom of your intuition – recognising signals\nYour patterns when under stress\nResilience and stability under pressure\nAlignment and focus\nBoundaries not barriers\nHow you tend to organise yourself when in the role of leader or follower\nThe capacity to tolerate paradox and uncertainty\nPatterns and tendencies in how you bring your desires and intentions into the world\nListening to the underlying message of others and holding the space for differences\n\nIf you work as a coach you will be able to take the learning from the workshop into your work with clients. \nThe workshop will draw upon concepts from martial arts\, mindfulness practice and “other stuff”\, and will incorporate Leadership Embodiment Level 1. \nFor more information visit www.thebeyondpartnership.co.uk
URL:https://leadershipembodiment.com/event/somatic-intelligence-the-practical-wisdom-of-the-body-mind/
LOCATION:Wiltshire\, Chippenham\, Wiltshire\, United Kingdom
CATEGORIES:Europe
ORGANIZER;CN="Paul King":MAILTO:paul@thebeyondpartnership.co.uk
GEO:51.458058;-2.1160739
END:VEVENT
END:VCALENDAR